BEGIN:VCALENDAR
VERSION:2.0
PRODID:-//https://wbp.opole.pl///NONSGML kigkonsult.se iCalcreator 2.10.15//
METHOD:PUBLISH
BEGIN:VEVENT
UID:20260421T111521CEST-3176CPOhNj@https://wbp.opole.pl/
DTSTAMP:20260421T091521Z
DESCRIPTION:31 grudnia biblioteka będzie czynna w godzinach&nbsp\;od 9:00 d
 o 12:00\nZa utrudnienia przepraszamy. https://wbp.opole.pl/kalendarz/wydar
 zenie/1268-zmiana-godzin
DTSTART;VALUE=DATE:20251230
LOCATION:Wojewódzka Biblioteka Publiczna ul. Piastowska 20 ()
SUMMARY:ZMIANA GODZIN
URL:https://wbp.opole.pl/kalendarz/wydarzenie/1268-zmiana-godzin
END:VEVENT
END:VCALENDAR
