BEGIN:VCALENDAR
VERSION:2.0
PRODID:-//https://wbp.opole.pl///NONSGML kigkonsult.se iCalcreator 2.10.15//
METHOD:PUBLISH
BEGIN:VEVENT
UID:20260421T083736CEST-3432CfWd7M@https://wbp.opole.pl/
DTSTAMP:20260421T063736Z
DESCRIPTION:NIECZYNNE\nDrogie Czytelniczki\, Drodzy Czytelnicy!Informujemy\
 , że 24 i 27 grudnia nasza biblioteka i wszystkie jej oddziały będą NIECZY
 NNE.Za utrudnienia przepraszamy. https://wbp.opole.pl/kalendarz/wydarzenie
 /1262-nieczynne
DTSTART;VALUE=DATE:20251222
LOCATION:Wojewódzka Biblioteka Publiczna ul. Piastowska 20 ()
SUMMARY:NIECZYNNE
URL:https://wbp.opole.pl/kalendarz/wydarzenie/1262-nieczynne
END:VEVENT
END:VCALENDAR
