BEGIN:VCALENDAR
VERSION:2.0
PRODID:-//https://wbp.opole.pl///NONSGML kigkonsult.se iCalcreator 2.10.15//
METHOD:PUBLISH
BEGIN:VEVENT
UID:20260421T052207CEST-36097Z8twE@https://wbp.opole.pl/
DTSTAMP:20260421T032207Z
DESCRIPTION:Fundacja na rzecz dzieci i młodzieży Piastun&nbsp\; wraz z Woje
 wódzką Bibloiteką&nbsp\; Publiczną w Opolu zaprasza na wyjątkowy koncert p
 olskich i ukraińskich kolęd i pieśni świątecznych w wykonaniu wykonawców z
  Opola i Obwodu iwanofrankiwskiego w Ukrainie.&nbsp\; Gosciem specjalnym k
 oncertu będzie Chór Kameralny Filharmonii Obwodowej im. Iry Malaniuk z Iwa
 no-Frankiwska nazywany także Chórem Woskresinnya (W tłumaczeniu polskim Ch
 ór Zmartwychwstania Pańskiego). https://www.facebook.com/Choir.Voskresinny
 a . Powstał w roku 2009 z inicjatywy Vołodymyra Rudnyckiego - dyrygenta a 
 obecnego Dyrektora iwanofrankiwskiej Filharmonii.&nbsp\; Głównym zamierzen
 iem &nbsp\;zespołu jest aktywna popularyzacja&nbsp\; ukraińskiej muzyki sa
 kralnej. W każdą niedzielę i każde święto religijne Chór Zmartwychwstania 
 Pańskiego towarzyszy śpiewem liturgii w archikatedrze Zmartwychwstania Pań
 skiego Ukraińskiej Cerkwi Greko-Katolickiej w Iwano-Frankiwsku a 20.12.202
 5 roku wystąpi w Sali spotkań WBP.&nbsp\;\nGłosy wszystkich&nbsp\; wykonaw
 ców koncertu połączone w kolędach i pieśniach bożonarodzeniowych\, wprowad
 zą Was w atmosferę\, w której tradycje&nbsp\; narodów Polski i Ukrainy&nbs
 p\; spotkają się w harmonii. Nasz koncert to także symboliczny gest budowa
 nia mostów&nbsp\; poprzez&nbsp\; muzykę\, która przekracza bariery i otula
  słuchaczy ciepłem oraz wzruszeniem. Zapraszamy na spotkanie\, w którym dź
 więk i emocje łączą ludzi ponad podziałami\, tworząc wspólnotę przeżywania
  świąt Bożego Narodzenia.\nWydarzenie współfinansowane przez Samorząd Woje
 wództwa Opolskiego.\n20.12.2025godz. 16:00Sala spotkań WBP\, ul. Piastowsk
 a 18\n*Informujemy\, że spotkania organizowane przez WBP w Opolu są rejest
 rowane oraz fotografowane. Materiały służą realizacji celów statutowych i 
 promocyjnych\, w tym publikowaniu na stronie www\, w social mediach i wyda
 wnictwach WBP w Opolu.\n&nbsp\; https://wbp.opole.pl/kalendarz/wydarzenie/
 1261-koleda-bez-granic
DTSTART;VALUE=DATE:20251220
LOCATION:Wojewódzka Biblioteka Publiczna ul. Piastowska 20 ()
SUMMARY:Kolęda bez granic
URL:https://wbp.opole.pl/kalendarz/wydarzenie/1261-koleda-bez-granic
END:VEVENT
END:VCALENDAR
