BEGIN:VCALENDAR
VERSION:2.0
PRODID:-//https://wbp.opole.pl///NONSGML kigkonsult.se iCalcreator 2.10.15//
METHOD:PUBLISH
BEGIN:VEVENT
UID:20260421T023905CEST-1002jlLVha@https://wbp.opole.pl/
DTSTAMP:20260421T003905Z
DESCRIPTION:Jan Klich urodził się w 1903 roku w Wanne–Eickel\,&nbsp\;w West
 falii\, dokąd wyemigrowali jego rodzice&nbsp\;z Wielkopolski za chlebem po
 d koniec XIX wieku. W roku 1923 wstąpił do Związku Polaków w Niemczech. W 
 1934 roku został skierowany do pracy w charakterze kierownika kulturalno-o
 światowego I Dzielnicy Związku Polaków w Niemczech z siedzibą w Opolu. 6 w
 rześnia 1939 r. został aresztowany i osadzony w obozie koncentracyjnym&nbs
 p\;w Buchenwaldzie. W 1947 roku\, jednym z pierwszych transportów\, dotarł
  do Szczecina\, gdzie zamieszkał i pełnił funkcję Delegata ds. Repatriacji
  Polaków w Urzędzie Repatriacyjnym. Zmarł w 1973 roku.\nStanisław Wasylews
 ki (ur. 18 grudnia 1885\, zm. 26 lipca 1953) – polski pisarz\, eseista\, k
 rytyk literacki\, dziennikarz&nbsp\;i tłumacz. Studiował historię i poloni
 stykę na Uniwersytecie Lwowskim\, a następnie pracował w Zakładzie Narodow
 ym im. Ossolińskich (1905–1910). W 1927 roku przeniósł się do Poznania\, g
 dzie był kierownikiem literackim Wydawnictwa Polskiego R. Wegnera&nbsp\;i 
 współpracował z radiem.&nbsp\;Podczas okupacji przebywał we Lwowie. Na pol
 ecenie wywiadu AK współpracował z Gazetą Lwowską\, za co po wojnie został 
 niesłusznie oskarżony o kolaborację. Po kilku miesiącach aresztu został un
 iewinniony\, lecz objęto go zakazem publikacji. W 1948 roku zamieszkał w O
 polu\, gdzie pracował jako bibliotekarz i pisał wspomnienia.&nbsp\;Wasylew
 ski był autorem licznych esejów i szkiców&nbsp\;o kulturze i obyczajach da
 wnej Polski. Najbardziej znane książki to m.in. Portrety pań wytwornych\, 
 Życie polskie&nbsp\;w XIX wieku\, Historie lwowskie i i Na Śląsku Opolskim
 .&nbsp\;Zmarł w Opolu.\nW spotkaniu udział wezmą: Urszula Zajączkowska\, D
 ariusz Stachowiak (wnuk Jana Klicha)\, dr Bartosz Jan Kuświk\, Katarzyna P
 awluk\nModeratorka spotkania:&nbsp\;Katarzyna Mazur-Kulesza\n18.12.2025god
 z. 17:00Sala spotkań WBP\, ul. Piastowska 18\n*Informujemy\, że spotkania 
 organizowane przez WBP w Opolu są rejestrowane oraz fotografowane. Materia
 ły służą realizacji celów statutowych i promocyjnych\, w tym publikowaniu 
 na stronie www\, w social mediach i wydawnictwach WBP w Opolu. https://wbp
 .opole.pl/kalendarz/wydarzenie/1244-trwalismy-sladami-jana-klicha-i-stanis
 lawa-wasylewskiego
DTSTART;VALUE=DATE:20251218
LOCATION:Wojewódzka Biblioteka Publiczna ul. Piastowska 20 ()
SUMMARY:Trwaliśmy. Śladami Jana Klicha  i Stanisława Wasylewskiego
URL:https://wbp.opole.pl/kalendarz/wydarzenie/1244-trwalismy-sladami-jana-k
 licha-i-stanislawa-wasylewskiego
END:VEVENT
END:VCALENDAR
