BEGIN:VCALENDAR
VERSION:2.0
PRODID:-//https://wbp.opole.pl///NONSGML kigkonsult.se iCalcreator 2.10.15//
METHOD:PUBLISH
BEGIN:VEVENT
UID:20260421T010211CEST-2863OC3ll4@https://wbp.opole.pl/
DTSTAMP:20260420T230211Z
DESCRIPTION:Nowość w Strefie Gier – gramy w bingo!Zapraszamy wszystkich mił
 ośników wspólnej zabawy – bez względu na wiek –&nbsp\;do udziału w nowej p
 ropozycji Strefy Gier Wojewódzkiej Biblioteki&nbsp\;Publicznej w Opolu.Bin
 go to klasyczna gra towarzyska\, w której liczy się refleks\,&nbsp\;spostr
 zegawczość i odrobina szczęścia. Każdy uczestnik otrzymuje planszę&nbsp\;z
  liczbami. Prowadzący losuje kolejne numery\, a gracze zaznaczają je na&nb
 sp\;swoich kartach. Osoba\, która jako pierwsza ułoży określony układ i&nb
 sp\;zawoła „Bingo!”\, wygrywa.To doskonała okazja\, by spędzić czas w przy
 jaznej atmosferze\, poznać&nbsp\;nowych ludzi i spróbować swoich sił w lek
 kiej\, pełnej emocji&nbsp\;rywalizacji.Zapisy:osobiście w Strefie Giermail
 owo:&nbsp\;strefagier@wbp.opole.pltelefonicznie: 77 40 66 486 https://wbp.
 opole.pl/kalendarz/wydarzenie/1254-bingo-w-strefie-gier
DTSTART;VALUE=DATE:20251217
LOCATION:Wojewódzka Biblioteka Publiczna ul. Piastowska 20 ()
SUMMARY:Bingo w Strefie Gier
URL:https://wbp.opole.pl/kalendarz/wydarzenie/1254-bingo-w-strefie-gier
END:VEVENT
END:VCALENDAR
