BEGIN:VCALENDAR
VERSION:2.0
PRODID:-//https://wbp.opole.pl///NONSGML kigkonsult.se iCalcreator 2.10.15//
METHOD:PUBLISH
BEGIN:VEVENT
UID:20260422T003804CEST-4506khREuZ@https://wbp.opole.pl/
DTSTAMP:20260421T223804Z
DESCRIPTION:Ulubiony film widzów&nbsp\;18.&nbsp\;edycji festiwalu Millenniu
 m Docs Against Gravity.Uznany dokumentalista Paweł Łoziński zebrał mozaikę
  ludzkich historii\, rozmawiając z przechodniami&nbsp\;z własnego balkonu&
 nbsp\;kamienicy na warszawskiej Saskiej Kępie. „Film balkonowy” zaskakuje 
 i wciąga\, jest na przemian&nbsp\;wesoły i refleksyjny.&nbsp\;Łoziński jes
 t swoich rozmówców ciekawy\, a oni odwdzięczają mu się najintymniejszymi h
 istoriami. Jego bohaterowie niosą w sobie zagadki i tajemnice\,&nbsp\;potr
 afią też zaskoczyć. Łoziński spędził na swoim balkonie&nbsp\;165 dni zdjęc
 iowych w ciągu ponad 2\,5 roku. Spotkał&nbsp\;ponad 2000 rozmówców.&nbsp\;
 Z tych spotkań pod jego „świeckim konfesjonałem”&nbsp\;powstał film o nas 
 samych – w „Filmie balkonowym” każdy z nas może przejrzeć się jak w lustrz
 e.\nLaureat Polskiej Nagrody Filmowej ORŁY w kategorii najlepszy film doku
 mentalny. Podczas 18. Millennium Docs Against Gravity „Film balkonowy” zdo
 był Nagrody Publiczności warszaw-skiej i kato-wickiej oraz wyróżnienia w K
 onkursie Głównym i Konkursie Polskim.Produkcja została również doceniona n
 a zagra-nicznych festiwalach filmowych\, zdobywając m.in. nagrody Grand Pr
 ix w Locarno i Biarritz oraz nagrodę MDR Award na festiwalu DOK Leipzig.\n
 Zapraszamy na pokaz filmu oraz spotkanie z reżyserem\, Pawłem Łozińskim.\n
 Prowadzenie spotkania: Monika Ostrowska\n14 grudnia\, godz. 17:00namiot w 
 ogrodzie WBP\n&nbsp\;\nSpotkanie odbywa się w&nbsp\;ramach projektu 'Powód
  do spotkań'\, dofinansowanego ze środków Ministra Kultury i&nbsp\;Dziedzi
 ctwa Narodowego\, pochodzących z&nbsp\;Funduszu Promocji Kultury.&nbsp\;\n
 \nZadanie dofinansowane przez Samorząd Województwa Opolskiego* Informujemy
 \, że spotkania organizowane przez WBP w Opolu są rejestrowane oraz fotogr
 afowane. Materiały służą realizacji celów statutowych i promocyjnych\, w t
 ym publikowaniu na stronie www\, w social mediach i wydawnictwach WBP w Op
 olu. https://wbp.opole.pl/kalendarz/wydarzenie/678-pokaz-filmu-balkonowego
 -i-spotkanie-z-rezyserem-pawlem-lozinskim
DTSTART;VALUE=DATE:20221214
LOCATION:Ogród WBP w Opolu (ul. Piastowska 20\, Opole)
SUMMARY:Pokaz 'Filmu balkonowego' i spotkanie z reżyserem\, Pawłem Łoziński
 m
URL:https://wbp.opole.pl/kalendarz/wydarzenie/678-pokaz-filmu-balkonowego-i
 -spotkanie-z-rezyserem-pawlem-lozinskim
END:VEVENT
BEGIN:VEVENT
UID:20260422T003804CEST-4512aPo6Da@https://wbp.opole.pl/
DTSTAMP:20260421T223804Z
DESCRIPTION:Bruno Schulz (1892-1942) uważał\, że warto w sylwetkach ludzi d
 opatrywać się rysów\, upodabniających ich do zwierząt lub ptaków. Swoją na
 rzeczoną Józefinę Szelińską przyrównywał do antylopy\, siebie natomiast do
  psa. Wystawa pt. „Bruno Schulz. Kro(ni)ki pieskie” prezentuje obsesyjny m
 otyw psa\, który pojawia się z natrętną wręcz częstotliwością w Schulzowsk
 im dziele jako jeden ze znaków&nbsp\; „antyhumanizmu” artysty\, czyli odrz
 ucenia przezeń antropocentrycznej wizji świata oraz przekonania o (rzekome
 j) wyższości człowieka nad światem natury. W&nbsp\; „pełnych zwierzęcych s
 pojrzeń i szmerów” utworach Schulza dochodzi do zakwestionowania antropoce
 ntrycznej narracji\, kapitulacji ludzkiego („wszystko unifikującego”) rozu
 mu oraz podważenia granicy między tym\, co ludzkie a tym\, co nieludzkie. 
 Zdaniem Magdaleny Jarnotowskiej\, autor Sklepów cynamonowych\, „naprowadza
 jąc na rozważania o zwierzętach komplikował prawdę o człowieku”\, „za pomo
 cą zwierzęcych porównań ponawiał niepokojące pytanie: ile zwierzęcia w czł
 owieku\, ile człowieka w człowieku\, a ile zwierzęcia?”.\nWystawa „Bruno S
 chulz. Kro(ni)ki pieskie”&nbsp\; do obejrzenia w Małej Galerii WBP Opole o
 d 19 września https://wbp.opole.pl/kalendarz/wydarzenie/682-wystawa-bruno-
 schulz-kro-ni-ki-pieskie
DTSTART:20220921T220000Z
DTEND:20221231T150200Z
LOCATION:Mała Galeria (ul. Piastowska 18\, Opole)
SUMMARY:Wystawa Bruno Schulz. Kro(ni)ki pieskie
URL:https://wbp.opole.pl/kalendarz/wydarzenie/682-wystawa-bruno-schulz-kro-
 ni-ki-pieskie
END:VEVENT
BEGIN:VEVENT
UID:20260422T003804CEST-4515TvsBth@https://wbp.opole.pl/
DTSTAMP:20260421T223804Z
DESCRIPTION:'Bo nie jest światło\, by pod korcem stało'. \n&nbsp\;XVI-wiecz
 ne starodruki Wojewódzkiej Biblioteki Publicznej w Opolu\n&nbsp\;\nZaprasz
 amy na wystawę szesnastowiecznych starodruków\; pięć z nich właśnie powróc
 iło z konserwacji.\nDzięki środkom pozyskanym z Ministerstwa Kultury i Dzi
 edzictwa Narodowego\,&nbsp\; od czerwca do początków listopada trwała kons
 erwacja 5 starodruków z XVI wieku. Do Opola starodruki powróciły w ochronn
 ych futerałach i pudłach z miękką wyściółką zabezpieczającą oprawy przed p
 rzetarciem powierzchni. Po konserwacji starodruki odzyskały swoje dawne wa
 lory estetyczne. Przebieg prac konserwatorskich został utrwalony w dokumen
 tacji fotograficznej i opisowej\, a cyfrowa wersja starodruków dostępna bę
 dzie w&nbsp\; Opolskiej Bibliotece Cyfrowej.&nbsp\; Konserwacja&nbsp\; ksi
 ęgozbioru zabytkowego\, dokumentującego przeszłość\, umożliwi czytelnikom 
 wykorzystanie go do celów badawczych. Jednocześnie Biblioteka zabezpieczy 
 dla obecnych i przyszłych odbiorców cenne dla dziedzictwa europejskiego st
 arodruki. Oprócz zakonserwowanych starodruków\, na wystawie pokazane będą 
 najbardziej reprezentatywne dla XVI stulecia księgi\, które zostały wydane
  w oficynach polskich\, francuskich\, niemieckich i włoskich. Zobaczymy pi
 ękne oprawy ze skóry lub pergaminu\, niektóre z superekslibrisami i zapink
 ami. Z pewnością zwiedzających zainteresują ciekawe ryciny i ozdobne inicj
 ały.\nWernisaż wystawy odbędzie się\n23 listopada\, o godz. 13.00\nGaleria
  WuBePe\, ul. Piastowska 20\nPodczas wernisażu p. Małgorzata Grocholska – 
 konserwatorka dzieł sztuki wygłosi wykład „Refleksje na temat konserwacji 
 starodruków WBP w Opolu.\nEkspozycję będzie można oglądać do 4 stycznia 20
 23 roku.\n„Konserwacja XVI-wiecznych zabytków piśmiennictwa ze zbiorów Woj
 ewódzkiej Biblioteki Publicznej w Opolu”\nzrealizowana w ramach Programu: 
 „Wspieranie działań muzealnych”\n„Dofinansowano ze środków Ministra Kultur
 y i Dziedzictwa Narodowego pochodzących z Funduszu Promocji Kultury-państw
 owego funduszu celowego”.\n\nZadanie dofinansowane przez Samorząd Wojewódz
 twa Opolskiego.\n\n* Informujemy\, że spotkania organizowane przez WBP w O
 polu są rejestrowane oraz fotografowane. Materiały służą realizacji celów 
 statutowych i promocyjnych\, w tym publikowaniu na stronie www\, w social 
 mediach i wydawnictwach WBP w Opolu. https://wbp.opole.pl/kalendarz/wydarz
 enie/703-wystawa-bo-nie-jest-swiatlo-by-pod-korcem-stalo
DTSTART:20221122T230000Z
DTEND:20230105T114100Z
LOCATION:Galeria WuBePe ()
SUMMARY:Wystawa 'Bo nie jest światło\, by pod korcem stało'
URL:https://wbp.opole.pl/kalendarz/wydarzenie/703-wystawa-bo-nie-jest-swiat
 lo-by-pod-korcem-stalo
END:VEVENT
BEGIN:VEVENT
UID:20260422T003804CEST-4521PhFxje@https://wbp.opole.pl/
DTSTAMP:20260421T223804Z
DESCRIPTION:Gramy razem z Wielką Orkiestrą Świątecznej Pomocy!\nZachęcamy d
 o licytacji książek z autografami (klik)\nGramy razem - do końca świata i 
 o jeden dzień dłużej! https://wbp.opole.pl/kalendarz/wydarzenie/722-wielka
 -orkiestra-swiatecznej-pomocy
DTSTART:20220831T080500Z
DTEND:20230213T110500Z
LOCATION:Wojewódzka Biblioteka Publiczna ul. Piastowska 20 ()
SUMMARY:Wielka Orkiestra Świątecznej Pomocy
URL:https://wbp.opole.pl/kalendarz/wydarzenie/722-wielka-orkiestra-swiatecz
 nej-pomocy
END:VEVENT
BEGIN:VEVENT
UID:20260422T003804CEST-4523rVJsHZ@https://wbp.opole.pl/
DTSTAMP:20260421T223804Z
DESCRIPTION:Plan spotkań autorskich na czerwiec&nbsp\;\nZACZYTANE OPOLSKIE
 \n\n\n\n\n05.06.2024\n\n\nMarcin Meller\n\n\nPrudnik godz. 18.00\n\n\nZacz
 ytane Opolskie\n\n\n\n\n06.06.2024\n\n\nMarcin Meller\n\n\nWBP w Opolu god
 z. 17.00\n\n\nZaczytane Opolskie\n\n\n\n\n07.06.2024\n\n\nMarcin Meller\n
 \n\nNamysłów godz. 17.00\n\n\nZaczytane Opolskie\n\n\n\n\n07.06.2024\n\n\n
 Artur Andrus\n\n\nPraszka godz. 17.00\n\n\nZaczytane Opolskie\n\n\n\n\n10.
 06.2024\n\n\nJarosław Mikołajewski\n\n\nGogolin dla dzieci godz.10.00\n\n
 \nDyskusyjny Klub Książki\n\n\n\n\n10.06.2024\n\n\nJarosław Mikołajewski\n
 \n\nŁubniany&nbsp\; godz. 18.00\n\n\nZaczytane Opolskie\n\n\n\n\n11.06.202
 4\n\n\nJarosław Mikołajewski\n\n\nBaborów dla dzieci godz. 11.00\n\n\nDysk
 usyjny Klub Książki\n\n\n\n\n10.06.2024\n\n\nMarta Abramowicz\n\n\nWBP w O
 polu godz. 17.00\n\n\nZaczytane Opolskie\n\n\n\n\n11.06.2024\n\n\nMarta Ab
 ramowicz\n\n\nDobrodzień godz. 18.00\n\n\nZaczytane Opolskie\n\n\n\n\n12.0
 6.2024\n\n\nMarta Abramowicz\n\n\nDobrzeń Wielki godz. 17.30\n\n\nZaczytan
 e Opolskie\n\n\n\n\n13.06.2024\n\n\nMarta Abramowicz\n\n\nGłuchołazy godz.
  17.00\n\n\nDyskusyjny Klub Książki\n\n\n\n\n14.06.2024\n\n\nJan Miodek\n
 \n\nWBP w Opolu godz. 17.00\n\n\nZaczytane Opolskie\n\n\n\n\n17.06.2024\n
 \n\nAgnieszka Lis\n\n\nWilków godz. 17.00\n\n\nZaczytane Opolskie\n\n\n\n
 \n18.06.2024\n\n\nAgnieszka Lis\n\n\nŚwierczów godz. 17.00\n\n\nZaczytane 
 Opolskie\n\n\n\n\n19.06.2024\n\n\nAgnieszka Lis\n\n\nLubsza f. Kościerzyce
  godz. 16.00\n\n\nZaczytane Opolskie\n\n\n\n\n20.06.2024\n\n\nAgnieszka Li
 s\n\n\nTurawa godz. 17.00\n\n\nZaczytane Opolskie\n\n\n\n\n21.06.2024\n\n
 \nAgnieszka Lis\n\n\nLasowice godz. 17.00\n\n\nZaczytane Opolskie\n\n\n\n 
 https://wbp.opole.pl/kalendarz/wydarzenie/937-zaczytane-opolskie-2024-r
DTSTART:20200106T141500Z
DTEND:20250306T161500Z
LOCATION:Wojewódzka Biblioteka Publiczna ul. Piastowska 20 ()
SUMMARY:'Zaczytane Opolskie' 2024 r.
URL:https://wbp.opole.pl/kalendarz/wydarzenie/937-zaczytane-opolskie-2024-r
END:VEVENT
END:VCALENDAR
