BEGIN:VCALENDAR
VERSION:2.0
PRODID:-//https://wbp.opole.pl///NONSGML kigkonsult.se iCalcreator 2.10.15//
METHOD:PUBLISH
BEGIN:VEVENT
UID:20260420T184515CEST-0200HJIoAP@https://wbp.opole.pl/
DTSTAMP:20260420T164515Z
DESCRIPTION:Zapraszamy na Świąteczne Granie w Strefie Gier.\nTo wyjątkowe w
 ydarzenie\, podczas którego uczestnicy będą mogli zagrać w gry planszowe o
  tematyce świątecznej i zimowej. Nasi pracownicy wprowadzą Was w zasady i 
 pomogą rozpocząć rozgrywkę. W programie m.in. Boop. świąteczne przepychank
 i\, Chatka z piernika\, IceCool oraz Karakorum.\nSpotkanie rozpocznie się 
 o godzinie 17:00 i potrwa do 22:00. Na miejscu czeka świąteczna atmosfera 
 oraz drobne słodkości.\nWydarzenie jest otwarte dla wszystkich zainteresow
 anych – nie trzeba&nbsp\;się&nbsp\;zapisywać.\n12.12.2025godz. 17:00Strefa
  Gier WBP\n*Informujemy\, że spotkania organizowane przez WBP w Opolu są r
 ejestrowane oraz fotografowane. Materiały służą realizacji celów statutowy
 ch i promocyjnych\, w tym publikowaniu na stronie www\, w social mediach i
  wydawnictwach WBP w Opolu. https://wbp.opole.pl/kalendarz/wydarzenie/1255
 -swiateczne-granie-w-strefie-gier
DTSTART;VALUE=DATE:20251212
LOCATION:Wojewódzka Biblioteka Publiczna ul. Piastowska 20 ()
SUMMARY:Świąteczne Granie w Strefie Gier
URL:https://wbp.opole.pl/kalendarz/wydarzenie/1255-swiateczne-granie-w-stre
 fie-gier
END:VEVENT
END:VCALENDAR
