BEGIN:VCALENDAR
VERSION:2.0
PRODID:-//https://wbp.opole.pl///NONSGML kigkonsult.se iCalcreator 2.10.15//
METHOD:PUBLISH
BEGIN:VEVENT
UID:20260420T171206CEST-97320tGkRF@https://wbp.opole.pl/
DTSTAMP:20260420T151206Z
DESCRIPTION:Podróże w rzeczywistości wielowymiarowej. Między wiedzą\, niewi
 edzą i pseudowiedzą to nowy cykl debat w WBP w Opolu. Naukowcy\, dziennika
 rze\, popularyzatorzy wraz z publicznością prowadzić będą dyskusje dotyczą
 ce istotnych dylematów i wyzwań trapiących świat współczesny jak zmiany kl
 imatyczne\, zdrowie publiczne\, geopolityka i porządek światowy\, ale takż
 e kwestii ważnych z punktu widzenia tożsamości i historii państwa polskieg
 o. I chociaż może się wydawać\, że wiążące odpowiedzi w zakresie tych zaga
 dnień powinni formułować&nbsp\; naukowcy\, to fenomenem naszych czasów oka
 zał się świat szczelnie przylegający do tego naukowego\, ale dający zupełn
 ie odmienne\, zniekształcone\, a często i zwyczajnie zafałszowane odpowied
 zi. W tej alternatywnej rzeczywistości królują teorie spiskowe i dezinform
 acja\, a spina je zbiorczo na różnych płaszczyznach pseudowiedza\, czasami
  w wersji wręcz pseudonauki\, w której prawda staje się względna\, a przek
 onania bardziej wartościowe niż dowody. Kwestionowanie teorii ewolucji\, z
 asadności szczepień albo wiara w rząd światowy zakulisowo sterujący system
 em bezpieczeństwa na Ziemi – to tylko niektóre przykłady. Jakie mechanizmy
  spowodowały tak powszechną popularność tych niczym nie popartych w ujęciu
  wiedzy naukowej teorii? Czy jesteśmy zainfekowani pseudonauką\, a może – 
 co gorsze – sami ją uprawiamy?... Trzeba o tym koniecznie porozmawiać.\nPi
 erwsza debata:\n„Nauka a pseudonauka” – prof. Tomasz Grzyb (SWPS we Wrocła
 wiu)\, dr Łukasz Lamża (UJ)\, moderator dr hab. Kamil Minkner\, prof. UO\n
 Moderator debaty: dr hab. Kamil Minkner\n11.12.2025godz. 17:00Sala spotkań
  WBP w Opolu\, ul. Piastowska 18\n*Informujemy\, że spotkania organizowane
  przez WBP w Opolu są rejestrowane oraz fotografowane. Materiały służą rea
 lizacji celów statutowych i promocyjnych\, w tym publikowaniu na stronie w
 ww\, w social mediach i wydawnictwach WBP w Opolu. https://wbp.opole.pl/ka
 lendarz/wydarzenie/1259-cykl-debat-podroze-w-rzeczywistosci-wielowymiarowe
 j-miedzy-wiedza-niewiedza-i-pseudowiedza
DTSTART;VALUE=DATE:20251211
LOCATION:Wojewódzka Biblioteka Publiczna ul. Piastowska 20 ()
SUMMARY:Cykl debat: Podróże w rzeczywistości wielowymiarowej. Między wiedzą
 \, niewiedzą i pseudowiedzą
URL:https://wbp.opole.pl/kalendarz/wydarzenie/1259-cykl-debat-podroze-w-rze
 czywistosci-wielowymiarowej-miedzy-wiedza-niewiedza-i-pseudowiedza
END:VEVENT
BEGIN:VEVENT
UID:20260420T171206CEST-97364uhrwU@https://wbp.opole.pl/
DTSTAMP:20260420T151206Z
DESCRIPTION:KONCERT UCZNIÓW PAŃSTWOWEJ SZKOŁY MUZYCZNEJ I i II ST.\n\nFRYDE
 RYKA CHOPINA W OPOLU\n\n„MUZYKA W GALERII CZYLI GALERIA MUZYKI”\nCZWARTEK\
 , 11 GRUDNIA 2025 R.\, GODZ. 17.00\, GALERIA WuBePe\, ul. Piastowska 20\nP
 rogram:\nZuzanna Jończy - śpiew\nklasa p. Rafała Żurakowskiego\nFranz Lehá
 r - Pieśń o Wilii z operetki „Wesoła wdówka”\nWolfgang Amadeus Mozart - ar
 ia Cherubina 'Non so piu...' z opery „Wesele Figara”\nakompaniament - p. B
 eata Danilewska\nKuba Błoszenko - flugelhorn\nklasa p. Piotra Waloszczyka
 \nJules Massenet - Medytacja\nakompaniament - p. Agnieszka Gryźlak-Röhrich
 \nAleksandra Pieruch - klarnet\nklasa p. Grzegorza Okonia\nCarl Maria von 
 Weber - Concertino Es-dur op. 26\nakompaniament - p. Agnieszka Gryźlak-Röh
 rich\nMaria Włodarczyk - śpiew\nklasa p. Rafała Żurakowskiego\nJohann Stra
 uss - aria 'Taki pan jak pan' z operetki „Zemsta nietoperza”\nGiacomo Pucc
 ini - aria Lauretty 'O mio babbino caro' z opery „Gianni Schicchi”\nakompa
 niament - p. Joanna Wąsiak\nMaja Marsac - flet\nklasa p. Małgorzaty Matusz
 czak\nErnesto Köhler - Pamiątka z Rosji\nakompaniament - p. Joanna Sławińs
 ka-Kurdziel\nEmanuela Rabińska - śpiew\nklasa p. Rafała Żurakowskiego\nChr
 istoph Willibald Gluck - aria Orfeusza 'Che faro senza Euridice' z opery „
 Orfeusz i Eurydyka”Władysław Żeleński - 'Na Anioł Pański biją dzwony'\nako
 mpaniament - Joanna Wąsiak\nNatan Kotowski - flet\nklasa p. Małgorzaty Mat
 uszczak\nFranz Benda - Sonata F-dur cz. I Adagio\nPhilippe Gaubert - Noctu
 rne et Allegro Scherzando\nakompaniament - p. Joanna Sławińska-Kurdziel\nJ
 akub Pączko - śpiew\nklasa p. Rafała Żurakowskiego\nPaolo Tosti - Serenata
 \nJan Gall - Barkarola\nakompaniament - p. Joanna Wąsiak https://wbp.opole
 .pl/kalendarz/wydarzenie/1260-koncert-z-cyklu-muzyka-w-galerii-czyli-galer
 ia-muzyki
DTSTART:20251211T160000Z
DTEND:20251211T173000Z
LOCATION:Wojewódzka Biblioteka Publiczna ul. Piastowska 20 ()
SUMMARY:Koncert z cyklu 'Muzyka w Galerii czyli Galeria Muzyki'
URL:https://wbp.opole.pl/kalendarz/wydarzenie/1260-koncert-z-cyklu-muzyka-w
 -galerii-czyli-galeria-muzyki
END:VEVENT
END:VCALENDAR
