BEGIN:VCALENDAR
VERSION:2.0
PRODID:-//https://wbp.opole.pl///NONSGML kigkonsult.se iCalcreator 2.10.15//
METHOD:PUBLISH
BEGIN:VEVENT
UID:20260420T140642CEST-9020rsN8wv@https://wbp.opole.pl/
DTSTAMP:20260420T120642Z
DESCRIPTION:Nowość w Strefie Gier – startujemy z bingo!Zapraszamy wszystkic
 h miłośników wspólnej zabawy – bez względu na wiek –do udziału w nowej pro
 pozycji Strefy Gier Wojewódzkiej BibliotekiPublicznej w Opolu.Bingo to kla
 syczna gra towarzyska\, w której liczy się refleks\,spostrzegawczość i odr
 obina szczęścia. Każdy uczestnik otrzymuje planszęz liczbami. Prowadzący l
 osuje kolejne numery\, a gracze zaznaczają je naswoich kartach. Osoba\, kt
 óra jako pierwsza ułoży określony układ izawoła „Bingo!”\, wygrywa.To dosk
 onała okazja\, by spędzić czas w przyjaznej atmosferze\, poznaćnowych ludz
 i i spróbować swoich sił w lekkiej\, pełnej emocjirywalizacji.Zapisy:osobi
 ście w Strefie Giermailowo: strefagier@wbp.opole.pltelefonicznie: 77 40 66
  486 https://wbp.opole.pl/kalendarz/wydarzenie/1243-bingo-w-strefie-gier
DTSTART;VALUE=DATE:20251210
LOCATION:Wojewódzka Biblioteka Publiczna ul. Piastowska 20 ()
SUMMARY:Bingo w Strefie Gier
URL:https://wbp.opole.pl/kalendarz/wydarzenie/1243-bingo-w-strefie-gier
END:VEVENT
END:VCALENDAR
