BEGIN:VCALENDAR
VERSION:2.0
PRODID:-//https://wbp.opole.pl///NONSGML kigkonsult.se iCalcreator 2.10.15//
METHOD:PUBLISH
BEGIN:VEVENT
UID:20260420T123301CEST-82767aWUuf@https://wbp.opole.pl/
DTSTAMP:20260420T103301Z
DESCRIPTION:Startujemy z cyklicznymi sesjami RPG w Strefie Gier WBP.Na pocz
 ątek zapraszamy do udziału w rozgrywkach w świecie&nbsp\;Dungeons &amp\; D
 ragons. Uczestnicy nie muszą posiadać wcześniejszego doświadczenia — wszys
 tkiego nauczymy na miejscu\, a sesje poprowadzą pracownicy Strefy Gier.\nZ
 apisy przyjmujemy:\n\ntelefonicznie: 77 40 66 486\nmailowo:&nbsp\;strefagi
 er@wbp.pl\nosobiście w Strefie Gier WBP\n\nZachęcamy do udziału i rozpoczę
 cia swojej przygody z grami fabularnymi. https://wbp.opole.pl/kalendarz/wy
 darzenie/1253-sesja-rpg-w-strefie-gier
DTSTART;VALUE=DATE:20251208
LOCATION:Wojewódzka Biblioteka Publiczna ul. Piastowska 20 ()
SUMMARY:Sesja RPG w Strefie Gier
URL:https://wbp.opole.pl/kalendarz/wydarzenie/1253-sesja-rpg-w-strefie-gier
END:VEVENT
END:VCALENDAR
