BEGIN:VCALENDAR
VERSION:2.0
PRODID:-//https://wbp.opole.pl///NONSGML kigkonsult.se iCalcreator 2.10.15//
METHOD:PUBLISH
BEGIN:VEVENT
UID:20260420T074421CEST-4609Uck23L@https://wbp.opole.pl/
DTSTAMP:20260420T054421Z
DESCRIPTION:Zapraszamy na Mikołajkowe Rodzinne Granie w Strefie Gier WBP.\n
 Przygotowaliśmy dla Was spotkanie w świątecznym klimacie\, pełne zimowych 
 i mikołajkowych gier planszowych dla całej rodziny. Każdą z nich chętnie w
 ytłumaczymy i pomożemy rozpocząć rozgrywkę\, więc możecie przyjść bez znaj
 omości zasad.\nNa uczestników czekają również drobne słodkości od Mikołaja
  oraz ciepła\, przedświąteczna atmosfera\, która idealnie sprawdzi się na 
 grudniowe popołudnie.\nZapraszamy do wspólnego grania i spędzenia Mikołaje
 k przy planszówkach.\n6.12.2025godz. 12:00-18:00Strefa Gier WBP\n*Informuj
 emy\, że spotkania organizowane przez WBP w Opolu są rejestrowane oraz fot
 ografowane. Materiały służą realizacji celów statutowych i promocyjnych\, 
 w tym publikowaniu na stronie www\, w social mediach i wydawnictwach WBP w
  Opolu. https://wbp.opole.pl/kalendarz/wydarzenie/1251-mikolajkowe-rodzinn
 e-granie
DTSTART;VALUE=DATE:20251206
LOCATION:Wojewódzka Biblioteka Publiczna ul. Piastowska 20 ()
SUMMARY:Mikołajkowe rodzinne granie
URL:https://wbp.opole.pl/kalendarz/wydarzenie/1251-mikolajkowe-rodzinne-gra
 nie
END:VEVENT
END:VCALENDAR
