BEGIN:VCALENDAR
VERSION:2.0
PRODID:-//https://wbp.opole.pl///NONSGML kigkonsult.se iCalcreator 2.10.15//
METHOD:PUBLISH
BEGIN:VEVENT
UID:20260420T171207CEST-5244TAxU52@https://wbp.opole.pl/
DTSTAMP:20260420T151207Z
DESCRIPTION:Plan spotkań autorskich na czerwiec&nbsp\;\nZACZYTANE OPOLSKIE
 \n\n\n\n\n05.06.2024\n\n\nMarcin Meller\n\n\nPrudnik godz. 18.00\n\n\nZacz
 ytane Opolskie\n\n\n\n\n06.06.2024\n\n\nMarcin Meller\n\n\nWBP w Opolu god
 z. 17.00\n\n\nZaczytane Opolskie\n\n\n\n\n07.06.2024\n\n\nMarcin Meller\n
 \n\nNamysłów godz. 17.00\n\n\nZaczytane Opolskie\n\n\n\n\n07.06.2024\n\n\n
 Artur Andrus\n\n\nPraszka godz. 17.00\n\n\nZaczytane Opolskie\n\n\n\n\n10.
 06.2024\n\n\nJarosław Mikołajewski\n\n\nGogolin dla dzieci godz.10.00\n\n
 \nDyskusyjny Klub Książki\n\n\n\n\n10.06.2024\n\n\nJarosław Mikołajewski\n
 \n\nŁubniany&nbsp\; godz. 18.00\n\n\nZaczytane Opolskie\n\n\n\n\n11.06.202
 4\n\n\nJarosław Mikołajewski\n\n\nBaborów dla dzieci godz. 11.00\n\n\nDysk
 usyjny Klub Książki\n\n\n\n\n10.06.2024\n\n\nMarta Abramowicz\n\n\nWBP w O
 polu godz. 17.00\n\n\nZaczytane Opolskie\n\n\n\n\n11.06.2024\n\n\nMarta Ab
 ramowicz\n\n\nDobrodzień godz. 18.00\n\n\nZaczytane Opolskie\n\n\n\n\n12.0
 6.2024\n\n\nMarta Abramowicz\n\n\nDobrzeń Wielki godz. 17.30\n\n\nZaczytan
 e Opolskie\n\n\n\n\n13.06.2024\n\n\nMarta Abramowicz\n\n\nGłuchołazy godz.
  17.00\n\n\nDyskusyjny Klub Książki\n\n\n\n\n14.06.2024\n\n\nJan Miodek\n
 \n\nWBP w Opolu godz. 17.00\n\n\nZaczytane Opolskie\n\n\n\n\n17.06.2024\n
 \n\nAgnieszka Lis\n\n\nWilków godz. 17.00\n\n\nZaczytane Opolskie\n\n\n\n
 \n18.06.2024\n\n\nAgnieszka Lis\n\n\nŚwierczów godz. 17.00\n\n\nZaczytane 
 Opolskie\n\n\n\n\n19.06.2024\n\n\nAgnieszka Lis\n\n\nLubsza f. Kościerzyce
  godz. 16.00\n\n\nZaczytane Opolskie\n\n\n\n\n20.06.2024\n\n\nAgnieszka Li
 s\n\n\nTurawa godz. 17.00\n\n\nZaczytane Opolskie\n\n\n\n\n21.06.2024\n\n
 \nAgnieszka Lis\n\n\nLasowice godz. 17.00\n\n\nZaczytane Opolskie\n\n\n\n 
 https://wbp.opole.pl/kalendarz/wydarzenie/937-zaczytane-opolskie-2024-r
DTSTART:20200106T141500Z
DTEND:20250306T161500Z
LOCATION:Wojewódzka Biblioteka Publiczna ul. Piastowska 20 ()
SUMMARY:'Zaczytane Opolskie' 2024 r.
URL:https://wbp.opole.pl/kalendarz/wydarzenie/937-zaczytane-opolskie-2024-r
END:VEVENT
BEGIN:VEVENT
UID:20260420T171207CEST-5249rG0pw2@https://wbp.opole.pl/
DTSTAMP:20260420T151207Z
DESCRIPTION:„Twarze Kultury”&nbsp\;to autorska wystawa fotograficzna portre
 tów\, będąca zwieńczeniem rocznych spotkań z&nbsp\;osobistościami świata k
 ultury i&nbsp\;sztuki. Autor zdjęć\, Jakub Łabędzki to student Krakowskiej
  Akademii Muzycznej i&nbsp\;członek Fotoklubu Opole\, aktywnie działający 
 na polu fotografii. Na wystawie można zobaczyć portrety takich osób np. ja
 k Eva Rubinstein\, Hanna Krall\, Jerzy Skolimowski\, Krzysztof Zanussi\, k
 tóry w&nbsp\;tym roku był gościem Wojewódzkiej Biblioteki Publicznej w&nbs
 p\;Opolu\, czy zmarły niedawno Jerzy Stuhr.\nWystawa czynna do 31.12.2024 
 r. w&nbsp\;'Galerii schody' przy ul. Piastowskiej 18.\nSerdecznie zaprasza
 my!\nSpotkanie odbyło się w&nbsp\;ramach projektu&nbsp\;„Miejsce dla histo
 rii”\, dofinansowanego ze środków Ministra Kultury i&nbsp\;Dziedzictwa Nar
 odowego\, pochodzących z&nbsp\;Funduszu Promocji Kultury.\n https://wbp.op
 ole.pl/kalendarz/wydarzenie/1038-wystawa-twarze-kultury
DTSTART:20241003T100000Z
DTEND:20241231T190000Z
LOCATION:Wojewódzka Biblioteka Publiczna ul. Piastowska 20 ()
SUMMARY:Wystawa 'Twarze Kultury'
URL:https://wbp.opole.pl/kalendarz/wydarzenie/1038-wystawa-twarze-kultury
END:VEVENT
BEGIN:VEVENT
UID:20260420T171207CEST-5252cvJPnn@https://wbp.opole.pl/
DTSTAMP:20260420T151207Z
DESCRIPTION:Serdecznie zapraszamy na wystawę fotograficzną 'Daniel.' Jakuba
  Łabędzkiego.&nbsp\; Wystawa powstała w ramach działań biblioteki powiatow
 ej.&nbsp\;Wojewódzka Biblioteka Publiczna w Opolu pełni funkcję biblioteki
  powiatowej dla bibliotek publicznych z powiatu opolskiego.\nEkspozycja cz
 ynna:18.11 - 17.12.2024 r.Wojewódzka Biblioteka Publiczna w Opolu - 'Mała 
 Galeria'\, ul. Piastowska 18\n'Pod koniec ubiegłego wieku Andrzej Łapicki\
 , ówczesny dyrektor Teatru Polskiego w Warszawie\, wyreżyserował właśnie „
 Zemstę”\, gdzie zagrałem już w roli Cześnika. Rejentem był wspaniały Ignac
 y Gogolewski\, a Papkina zagrał zachwycająco Damian Damięcki. Po paru lata
 ch Krzysztof Jasiński\, którego uważam za jednego z najwybitniejszych reży
 serów nie tylko polskich\, wystawił „Zemstę” w Teatrze STU. Przyjechałem\,
  zobaczyłem\, zachwyciłem się inscenizacją i reakcją widowni. Jasiński zap
 roponował mi dublurę Cześnika\, którego grał jeszcze Darek Gnatowski. Z ra
 dością się zgodziłem. Po śmierci Darka\, Cześnika gram sam. Koledzy\, jak 
 to u Krzyśka\, czasem się zmieniają'.&nbsp\;- Daniel Olbrychski  'Cykl fot
 ografii powstał wokół postaci Cześnika\, w jaką wcielił się Daniel Olbrych
 ski w spektaklu „Zemsta”\, w reżyserii Krzysztofa Jasińskiego. Na zdjęciac
 h ukazany jest w kostiumach autorstwa Doroty Ogonowskiej. Portrety ukazują
  twarz aktora\, którą doskonale znamy\, twarz\, która towarzyszy nam od la
 t. Odbijają się w niej wszystkie ikoniczne role Daniela Olbrychskiego. Uka
 zana i zawarta jest tu cała istota i wyraz wielkiego aktora'. -&nbsp\;&nbs
 p\;Jakub Łabędzki  'Jakub Łabędzki ma wspaniały zmysł do fotografii. Nie z
 amęcza obiektu swoich zdjęć sztucznym pozowaniem. Wyczuwa świetnie kiedy n
 acisnąć spust migawki. Zrobił mi przy okazji „Zemsty”\, ot tak\, z marszu\
 , za kulisami dziesiątki z różnych okresów portretów. To jedne z najlepszy
 ch sesji w moim aktorskim życiu'. - Daniel Olbrychski o autorzeJakub Łabęd
 zki - opolanin\, student krakowskiej AMKP. Związany&nbsp\;z Fotoklubem Opo
 le\, autor wystaw fotograficznych oraz cykli skupiających się na portretac
 h różnych osób związanych&nbsp\;ze środowiskiem artystycznym&nbsp\;i kultu
 ralnym. https://wbp.opole.pl/kalendarz/wydarzenie/1068-daniel-wystawa-foto
 grafii-jakuba-labedzkiego
DTSTART:20241118T120000Z
DTEND:20241217T160000Z
LOCATION:Wojewódzka Biblioteka Publiczna ul. Piastowska 20 ()
SUMMARY:Daniel. Wystawa fotografii Jakuba Łabędzkiego
URL:https://wbp.opole.pl/kalendarz/wydarzenie/1068-daniel-wystawa-fotografi
 i-jakuba-labedzkiego
END:VEVENT
BEGIN:VEVENT
UID:20260420T171207CEST-52581M6SZL@https://wbp.opole.pl/
DTSTAMP:20260420T151207Z
DESCRIPTION:Serdecznie zapraszamy na wernisaż wystawy 'Poetyckie kolaże'&nb
 sp\;Artystycznego Klubu TEKA przy Wojewódzkiej Bibliotece Publicznej w Opo
 lu.&nbsp\;Godz. 13:00Czytelnia\,&nbsp\;ul. Piastowska 18\nWystawa zrealizo
 wana w ramach wniosku ”Biblioteka pełna emocji edycja 2024” dofinansowaneg
 o ze środków Ministerstwa Kultury i Dziedzictwa Narodowego pochodzących z 
 Funduszu Promocji Kultury.\n* Informujemy\, że spotkania organizowane prze
 z WBP w Opolu są rejestrowane oraz fotografowane. Materiały służą realizac
 ji celów statutowych i promocyjnych\, w tym publikowaniu na stronie www\, 
 w social mediach i wydawnictwach WBP w Opolu.&nbsp\; https://wbp.opole.pl/
 kalendarz/wydarzenie/1070-wystawa-poetyckie-kolaze
DTSTART:20241119T120000Z
DTEND:20241219T120000Z
LOCATION:Wojewódzka Biblioteka Publiczna ul. Piastowska 20 ()
SUMMARY:Wystawa 'Poetyckie kolaże'
URL:https://wbp.opole.pl/kalendarz/wydarzenie/1070-wystawa-poetyckie-kolaze
END:VEVENT
BEGIN:VEVENT
UID:20260420T171207CEST-5260EZlRRT@https://wbp.opole.pl/
DTSTAMP:20260420T151207Z
DESCRIPTION:KSIĘGA DZIEJÓW RODU I FIRMY TAŃCZAK I S-KAKsięga powstała z oka
 zji 50-lecia działalności firmy stomatologicznej «Tańczak i S-ka» w Opolu 
 i stanowi kronikę zakładu od momentu jego ustanowienia w dniu 2 I 1974 r. 
 – aż po dzień dzisiejszy.\n&nbsp\;Inspiratorem napisania kroniki zakładu b
 ył mój najstarszy syn Rafał\, który z uporem maniaka skutecznie zachęcał m
 nie – za co jestem mu wdzięczny – do napisania czegokolwiek o historii rod
 zinnej firmy\, a kiedy już się „rozsmakowałem” – jako amator – w tym pisar
 skim rzemiośle\, to okazało się\, że jesień mojego życia stała się wiosną 
 możliwości i powstała ogromna księga jubileuszowa.&nbsp\; &nbsp\;Małą plac
 ówkę stomatologiczną zorganizowaliśmy wraz z moją śp. Żoną Antonią i przez
  wiele lat dynamicznie ją rozwijaliśmy. Przed półwieczem zaczynaliśmy obsł
 ugiwać pacjentów w jednym małym pomieszczeniu (o powierzchni 46 m2)\, a dz
 iś dysponujemy dwoma zakładami (przy ul. Orląt lwowskich i ul. Budowlanych
 ) o łącznej powierzchni około 500 m2. &nbsp\;Z czteroosobowego zespołu (na
  starcie przed 50. laty) rozwinęliśmy się w duży 40-osobowy zakład.Tłem hi
 storii rozwoju rodzinnej firmy stomatologicznej są dzieje rodu Tańczaków –
  od kilku pokoleń.Wszystko to opisane jest na kartach mojej pierwszej w ży
 ciu próby literackiej\, która dzięki ogromnej\, mistrzowskiej pomocy mojeg
 o niezawodnego od kilku dziesięcioleci Przyjaciela Harry’ego Dudy\, wybitn
 ego poety i pisarza-wizjonera\, nabrała kształtu nadającego się do wydania
  jej drukiem. Harry’emu Dudzie jestem dozgonnie wdzięczny za wszystko\, cz
 ego mnie nauczył w trakcie ponad dwuletniej z Nim współpracy. Małżonce Har
 ry’ego – poetce Elżbiecie Lisak-Dudzie przy tej okazji również dziękuję za
  wszelkie wsparcie płynące z Jej wiedzy i serca.&nbsp\; &nbsp\; &nbsp\; &n
 bsp\; &nbsp\; &nbsp\; &nbsp\; &nbsp\; &nbsp\; &nbsp\;\nAutor księgi – Emil
  Tańczak – jest wielozawodowcem w dziedzinach nawet bardzo odległych od si
 ebie. Kształcił się na kilku uczelniach\, poczynając od kierunków politech
 nicznych aż po handlowo-organizacyjne. Zdobywał kolejne szczeble wtajemnic
 zenia edukacyjnego\; przez kilka lat posmakował nawet roli nauczyciela aka
 demickiego.&nbsp\;W pracy zawodowej (szczególnie w trakcie pobytu w Warsza
 wie) pełnił dość ważne funkcje kierownicze na różnych szczeblach\, z centr
 alną administracją włącznie. Ciągle poszukiwał swojego miejsca w życiu\, a
 le pomimo\, że na ogół wszędzie odnosił sukcesy\, w żadnej dziedzinie nie 
 znajdował pełnego ukontentowania. Stale szukał i marzył\, stąd rodzina i p
 rzyjaciele uszczypliwie nazywali go marzycielem.\nPo ożenku z dentystką z 
 Podhala stał się cud! Małżeństwo z Antoniną zmieniło wszystko – Emil polub
 ił stomatologię… Rzetelnie wziął się do nauki i mozolnej pracy. Było to no
 we wyzwanie\, które traktował jako kolejną\, wielką przygodę życiową.&nbsp
 \;Po zdobyciu w praktyce ogólnych kompetencji stomatologicznych (nie ściśl
 e lekarskich)\, na tyle ugruntowanych\, żeby się swobodnie w tej branży po
 ruszać – konsekwentnie się zajął dalszym rozwojem swojego zakładu.&nbsp\;E
 mil Tańczak oświadczył niedawno\, że dziś u schyłku swojego życia ma satys
 fakcję\, iż może w dobre ręce przekazać sprawnie funkcjonujący\, duży i no
 woczesny zakład stomatologiczny\, z 50-letnim dorobkiem\, bowiem dwoje mło
 dszych jego dzieci – Ewa i Michał\, wybrały branżę stomatologiczną.2.12.20
 24godz. 17:00Namiot w ogrodzie WBP\,&nbsp\;ul. Piastowska 20Moderator spot
 kania&nbsp\;prof. dr hab. Stanisław S. Nicieja\nSpotkanie realizowane w ra
 mach wniosku&nbsp\;”Miejsce dla historii”&nbsp\;dofinansowanego ze środków
  Ministerstwa Kultury i Dziedzictwa Narodowego pochodzących z Funduszu Pro
 mocji Kultury.*Informujemy\, że spotkania organizowane przez WBP w Opolu s
 ą rejestrowane oraz fotografowane. Materiały służą realizacji celów statut
 owych i promocyjnych\, w tym publikowaniu na stronie www\, w social mediac
 h i wydawnictwach WBP w Opolu\n https://wbp.opole.pl/kalendarz/wydarzenie/
 1072-spotkanie-autorskie-z-emilem-tanczakiem
DTSTART:20241202T160000Z
DTEND:20241207T160000Z
LOCATION:Wojewódzka Biblioteka Publiczna ul. Piastowska 20 ()
SUMMARY:Spotkanie autorskie z Emilem Tańczakiem
URL:https://wbp.opole.pl/kalendarz/wydarzenie/1072-spotkanie-autorskie-z-em
 ilem-tanczakiem
END:VEVENT
END:VCALENDAR
