BEGIN:VCALENDAR
VERSION:2.0
PRODID:-//https://wbp.opole.pl///NONSGML kigkonsult.se iCalcreator 2.10.15//
METHOD:PUBLISH
BEGIN:VEVENT
UID:20260420T040653CEST-0798iUl6XU@https://wbp.opole.pl/
DTSTAMP:20260420T020653Z
DESCRIPTION:Zapisy trwają do 14 listopada!\nSerdecznie zapraszamy na wyjątk
 owe warsztaty scenariuszowe&nbsp\;'Mam fajny pomysł na film' prowadzone pr
 zez Barbarę Białowąs – cenioną scenarzystkę i reżyserkę&nbsp\;https://www.
 filmpolski.pl/fp/index.php?osoba=1137559\nKurs składa się z 5 spotkań\, tr
 wających po 2 godziny każde. Zajęcia rozpoczną się 25 listopada.\nWiek ucz
 estników nie jest ograniczony – zapraszamy zarówno licealistów\, jak i eme
 rytów!\nTo doskonała okazja\, by: • poznać tajniki pisania scenariuszy\, •
  rozwijać własne pomysły filmowe i teatralne\, • zdobyć praktyczne wskazów
 ki od doświadczonej profesjonalistki.\nZgłoszenia: Aby wziąć udział\, nale
 ży przesłać krótki opis pomysłu na film (maksymalnie jedna strona) na adre
 s: warsztatybialowas@gmail.com\nUwaga! Uczestnicy zostaną wybrani przez pr
 owadzącą na podstawie nadesłanych projektów.\nPo ukończeniu kursu każdy uc
 zestnik otrzyma dyplom potwierdzający udział. Liczba miejsc jest ograniczo
 na – prosimy o wcześniejsze zgłoszenia. Udział w warsztatach jest bezpłatn
 y!\n25.11.2025 r.godz. 18:00Sala spotkań WBP w Opolu\, ul. Piastowska 18\n
 Dołącz do nas i odkryj\, jak powstają inspirujące historie na ekranie i sc
 enie!\n*Informujemy\, że spotkania organizowane przez WBP w Opolu są rejes
 trowane oraz fotografowane. Materiały służą realizacji celów&nbsp\;statuto
 wych i promocyjnych\, w tym publikowaniu na stronie www\, w&nbsp\;social m
 ediach i wydawnictwach WBP w Opolu. https://wbp.opole.pl/kalendarz/wydarze
 nie/1237-warsztaty-scenariuszowe-mam-fajny-pomysl-na-film
DTSTART:20251125T170000Z
DTEND:20251204T140500Z
LOCATION:Wojewódzka Biblioteka Publiczna ul. Piastowska 20 ()
SUMMARY:Warsztaty scenariuszowe  'Mam fajny pomysł na film'
URL:https://wbp.opole.pl/kalendarz/wydarzenie/1237-warsztaty-scenariuszowe-
 mam-fajny-pomysl-na-film
END:VEVENT
BEGIN:VEVENT
UID:20260420T040653CEST-0803e7MWgV@https://wbp.opole.pl/
DTSTAMP:20260420T020653Z
DESCRIPTION:Szanowni Państwo\,\nSerdecznie zapraszamy do sali spotkań w Woj
 ewódzkiej Bibliotece Publicznej na konferencję „Aktywizm Kobiet: Siła Zmia
 ny Kobiet'\, poświęconej metamorfozie kobiet pod wpływem wzmacniania swoje
 go wizerunku i budowania swojej osobistej marki. ✨\nKonferencja będzie w f
 ormie warsztatu:\n✅ motywacji do zmiany oraz do rozwoju osobistego\,✅ netw
 orkingu i wymiany doświadczeń\, sprzyjających budowaniu dobrych relacji.\n
 Wydarzenie zgromadzi liderki\, które wezmą udział w:\n— panelu dyskusyjnym
  o roli\, wyzwaniach i przyszłości aktywizmu kobiet\,— panelu poświęconym 
 roli kobiet w życiu zawodowym oraz ich inspirującym historiom.\nKonferencj
 a będzie okazją do rozmowy o tym\, jak kobiety zmieniają świat w społeczno
 ściach\, w biznesie i w przestrzeni publicznej — oraz jak tę zmianę wartoś
 ciowo wspierać i wzmacniać.\n04.12.2025r.Wojewódzka Biblioteka Publiczna O
 pole\,&nbsp\;ul. Piastowska 18-19-20\, OpoleGodzina: 17.00\nZapisy :https:
 //forms.gle/5cpMHSVEo9biE5g87\nStowarzyszenie Opolskie Kobiety Sukcesu pow
 stało w grudniu 2018 r. To lokalna inicjatywa stworzona z myślą o ambitnyc
 h i przedsiębiorczych Kobietach wspierających się w rozwoju osobistym i za
 wodowym. Inicjatywa ta została wykreowana jako uwidocznienie spektakularne
 j pasji Lilianny Łuczkiewicz.\nNaszą misją jest dostarczenie kobietom z Op
 olszczyzny fachowej wiedzy oraz motywacji do podejmowania odważnych działa
 ń. Nowe przyjaźnie\, nowe pomysły\, nowa jakość biznesu – wierzymy\, że tw
 orząc razem możemy zdziałać więcej. Stworzyłyśmy przestrzeń dedykowaną Kob
 ietom\, w której pozycja Kobiet będzie aktywnie wspierana poprzez wzmacnia
 nie ich wizerunku i osobistej marki. Promujemy Kobiety\, które wypracowały
  swój sukces osobisty oraz zawodowy i są szczytnym wzorem do naśladowania 
 dla innych Kobiet.\n„Zawsze wierzyłam w to\, że Kobiety tworząc razem\, mo
 gą dokonać więcej.' https://wbp.opole.pl/kalendarz/wydarzenie/1250-aktywiz
 m-kobiet-sila-zmiany-kobiet
DTSTART:20251204T160000Z
DTEND:20251204T190000Z
LOCATION:Wojewódzka Biblioteka Publiczna ul. Piastowska 20 ()
SUMMARY:Aktywizm Kobiet: Siła Zmiany Kobiet
URL:https://wbp.opole.pl/kalendarz/wydarzenie/1250-aktywizm-kobiet-sila-zmi
 any-kobiet
END:VEVENT
BEGIN:VEVENT
UID:20260420T040653CEST-0808WKdmLC@https://wbp.opole.pl/
DTSTAMP:20260420T020653Z
DESCRIPTION:dr Sławomir Rogowski – doktor nauk społecznych\, dziennikarz\, 
 producent filmowy i telewizyjny\, scenarzysta m.in. filmów: Duże zwierzę\,
  Matka Teresa od kotów\, Przedwiośnie. Były członek Krajowej Rady Radiofon
 ii i Telewizji\, od 2024 r. podsekretarz stanu w Ministerstwie Kultury i D
 ziedzictwa Narodowego\, gdzie nadzoruje zadania wykonywane przez Departame
 nt Szkolnictwa Artystycznego oraz Departament Bezpieczeństwa i Zarządzania
  Kryzysowego. Absolwent SGH oraz Wydziału Dziennikarstwa i Nauk Polityczny
 ch UW. Adiunkt w Laboratorium Badań Telewizyjnych i Filmowych Wydziału Dzi
 ennikarstwa\, Informacji i Bibliologii UW\, do 2024 r. wykładowca Wydziału
  Sztuki Mediów ASP w Warszawie. Specjalizuje się w problematyce finansowan
 ia mediów publicznych\, zarządzania jakością w mediach i kulturze oraz fil
 mu jako instrumentu komunikacji społecznej. W latach 80. działacz Zrzeszen
 ia Studentów Polskich\, kierownik klubu studenckiego Hybrydy. W latach 90.
  dyrektor Festiwalu Artystycznego Młodzieży Akademickiej FAMA\, Zespołu Or
 ganizacyjno-Prawnego Komitetu Kinematografii\, Agencji Filmowej Telewizji 
 Polskiej. Pomysłodawca festiwalu filmowego „Lato Filmów” w Kazimierzu Doln
 ym nad Wisłą. Członek Europejskiej Akademii Filmowej\, Stowarzyszenia Film
 owców Polskich i ZAiKS.\nAutor prac popularno-naukowych\, powieści i opowi
 adań nagradzanych jako najlepiej opisujące realia PRL. W dorobku: Zima stu
 lecia\, Widok z dachu\, Kultura studencka okresu PRL. Media i działalność 
 artystyczna\, Hybrydy. Zawsze piękni\, zawsze dwudziestoletni\, Dystrybucj
 a filmowa. Od kina do streamingu\, Za tamtymi drzwiami.\nModerator spotkan
 ia:&nbsp\;prof. Bogusław Nierenberg\n4.12.2025godz. 17:30Namiot w ogrodzie
  WBP\, ul. Piastowska 20\nSpotkanie to kończy tegoroczne&nbsp\;„Zaczytane 
 Opolskie” –&nbsp\;cykl zainicjowany i finansowany przez Zarząd Województwa
  Opolskiego w osobie marszałka Szymona Ogłazy oraz wicemarszałka Zbigniewa
  Kubalańcy\, przy udziale Departamentu Kultury i Dziedzictwa Regionalnego 
 reprezentowanego przez dyrektorkę Agnieszkę Kamińską\, a realizowany przez
  WBP w Opolu i biblioteki całego regionu.\n*Informujemy\, że spotkania org
 anizowane przez WBP w Opolu są rejestrowane oraz fotografowane. Materiały 
 służą realizacji celów statutowych i promocyjnych\, w tym publikowaniu na 
 stronie www\, w social mediach i wydawnictwach WBP w Opolu. https://wbp.op
 ole.pl/kalendarz/wydarzenie/1256-spotkanie-autorskie-z-dr-slawomirem-rogow
 skim
DTSTART;VALUE=DATE:20251204
LOCATION:Wojewódzka Biblioteka Publiczna ul. Piastowska 20 ()
SUMMARY:Spotkanie autorskie z dr Sławomirem Rogowskim 
URL:https://wbp.opole.pl/kalendarz/wydarzenie/1256-spotkanie-autorskie-z-dr
 -slawomirem-rogowskim
END:VEVENT
END:VCALENDAR
