BEGIN:VCALENDAR
VERSION:2.0
PRODID:-//https://wbp.opole.pl///NONSGML kigkonsult.se iCalcreator 2.10.15//
METHOD:PUBLISH
BEGIN:VEVENT
UID:20260419T200336CEST-3675uzBGhB@https://wbp.opole.pl/
DTSTAMP:20260419T180336Z
DESCRIPTION:Zapisy trwają do 14 listopada!\nSerdecznie zapraszamy na wyjątk
 owe warsztaty scenariuszowe&nbsp\;'Mam fajny pomysł na film' prowadzone pr
 zez Barbarę Białowąs – cenioną scenarzystkę i reżyserkę&nbsp\;https://www.
 filmpolski.pl/fp/index.php?osoba=1137559\nKurs składa się z 5 spotkań\, tr
 wających po 2 godziny każde. Zajęcia rozpoczną się 25 listopada.\nWiek ucz
 estników nie jest ograniczony – zapraszamy zarówno licealistów\, jak i eme
 rytów!\nTo doskonała okazja\, by: • poznać tajniki pisania scenariuszy\, •
  rozwijać własne pomysły filmowe i teatralne\, • zdobyć praktyczne wskazów
 ki od doświadczonej profesjonalistki.\nZgłoszenia: Aby wziąć udział\, nale
 ży przesłać krótki opis pomysłu na film (maksymalnie jedna strona) na adre
 s: warsztatybialowas@gmail.com\nUwaga! Uczestnicy zostaną wybrani przez pr
 owadzącą na podstawie nadesłanych projektów.\nPo ukończeniu kursu każdy uc
 zestnik otrzyma dyplom potwierdzający udział. Liczba miejsc jest ograniczo
 na – prosimy o wcześniejsze zgłoszenia. Udział w warsztatach jest bezpłatn
 y!\n25.11.2025 r.godz. 18:00Sala spotkań WBP w Opolu\, ul. Piastowska 18\n
 Dołącz do nas i odkryj\, jak powstają inspirujące historie na ekranie i sc
 enie!\n*Informujemy\, że spotkania organizowane przez WBP w Opolu są rejes
 trowane oraz fotografowane. Materiały służą realizacji celów&nbsp\;statuto
 wych i promocyjnych\, w tym publikowaniu na stronie www\, w&nbsp\;social m
 ediach i wydawnictwach WBP w Opolu. https://wbp.opole.pl/kalendarz/wydarze
 nie/1237-warsztaty-scenariuszowe-mam-fajny-pomysl-na-film
DTSTART:20251125T170000Z
DTEND:20251204T140500Z
LOCATION:Wojewódzka Biblioteka Publiczna ul. Piastowska 20 ()
SUMMARY:Warsztaty scenariuszowe  'Mam fajny pomysł na film'
URL:https://wbp.opole.pl/kalendarz/wydarzenie/1237-warsztaty-scenariuszowe-
 mam-fajny-pomysl-na-film
END:VEVENT
BEGIN:VEVENT
UID:20260419T200336CEST-3678mCj6JB@https://wbp.opole.pl/
DTSTAMP:20260419T180336Z
DESCRIPTION:Pecha&nbsp\;Kucha&nbsp\;20×20 to prosta w&nbsp\;formule prezent
 acja multimedialna złożona z&nbsp\;20 slajdów\, z&nbsp\;których każdy prze
 łączany jest automatycznie po 20 sekundach. Bez możliwości zatrzymania czy
  cofnięcia pokazu! Dzięki takiej formie przekaz jest zwięzły\, przykuwa uw
 agę i&nbsp\;nikt się nie nudzi.&nbsp\;\nPecha&nbsp\;Kucha&nbsp\;Nights to 
 nieformalne\, zabawne spotkania w&nbsp\;ramach których zebrani mają możliw
 ość kreatywnego spędzenia wieczoru\, poznania nowych ludzi\, wymiany doświ
 adczeń\, idei…Pecha&nbsp\;Kucha&nbsp\;Nights odbywają się zarówno w&nbsp\;
 klubach\, restauracjach\, barach\, ogródkach piwnych\, domach prywatnych\,
  basenach\, kamieniołomach jak i&nbsp\;uniwersytetach oraz kościołach. Naj
 częściej jest to miejsce typu „thinking and drinking”.&nbsp\; https://wbp.
 opole.pl/kalendarz/wydarzenie/1249-pecha-kucha-night-opole-vol-15
DTSTART;VALUE=DATE:20251129
LOCATION:Wojewódzka Biblioteka Publiczna ul. Piastowska 20 ()
SUMMARY:Pecha Kucha Night Opole vol. 15
URL:https://wbp.opole.pl/kalendarz/wydarzenie/1249-pecha-kucha-night-opole-
 vol-15
END:VEVENT
END:VCALENDAR
