BEGIN:VCALENDAR
VERSION:2.0
PRODID:-//https://wbp.opole.pl///NONSGML kigkonsult.se iCalcreator 2.10.15//
METHOD:PUBLISH
BEGIN:VEVENT
UID:20260424T175112CEST-2567dh44l9@https://wbp.opole.pl/
DTSTAMP:20260424T155112Z
DESCRIPTION:Szanowni Czytelnicy\,\ninformujemy\, że w trosce o wspólne bezp
 ieczeństwo i zdrowie oraz zgodnie z rozporządzeniem Rady Ministrów z dnia 
 6 listopada 2020 r.\, Wojewódzka Biblioteka Publiczna w Opolu oraz wszystk
 ie jej oddziały od 7 do 29 listopada włącznie będą nieczynne.\n- od 6.11 o
 d godz. 15.00 zawieszona została możliwość zamawiania oraz rezerwacji zbio
 rów\n- do 30.11 przedłużone będą terminy zwrotu wypożyczonych zbiorów bez 
 naliczania kary\n- informacje o stanie kont czytelników udzielane będą tel
 efonicznie od poniedziałku do piątku w godz. 8.00-15.00:wypożyczalnia - te
 l.77 40 66 435\, Biblioteka Austriacka - tel. 77 47 47 085\, ba@wbp.opole.
 plBiblioteka Muzyczna - tel. 77 45 42 757\, bm@wbp.opole.plBiblioteka Obco
 języczna - tel. 77 45 39194\, bo@wbp.opole.pl\n- bibliotekarze WBP mogą re
 alizować Państwa kwerendy i zapytania bibliograficzne drogą elektroniczną.
  Możliwe jest także zamawianie skanów z księgozbioru podręcznego czytelni 
 oraz Działu Informacyjno-Bibliograficznego. Prośby w tej sprawie prosimy k
 ierować na adres: informacja@wbp.opole.pl\, tel. 77 40 66 426\n- konwersac
 je językowe odbywają się online (szczegóły na Facebooku i na stronach oddz
 iałów)\nZachęcamy jednocześnie do korzystania z baz e-książek Legimi i IBU
 K Libra.Kody dostępu będą przesyłane po podaniu drogą elektroniczną imieni
 a i nazwiska oraz numeru karty Wojewódzkiej Biblioteki Publicznej na adres
  wypozyczalnia@wbp.opole.pl Kody będziemy przekazywać również tym czytelni
 kom\, którzy w czasie ograniczonego dostępu do biblioteki\, zdalnie zapisz
 ą się do biblioteki korzystając z zakładki w katalogu SOWA.\nW przypadku j
 akichkolwiek zmian będziemy informować Państwa na bieżąco na naszej stroni
 e oraz na naszym profilu na Facebooku https://www.facebook.com/wbpopole.\n
 &nbsp\;\n&nbsp\;\n https://wbp.opole.pl/kalendarz/wydarzenie/404-uwaga-od-
 7-do-29-xi-biblioteka-nieczynna
DTSTART:20201107T084800Z
DTEND:20201129T194800Z
LOCATION:Ogród WBP w Opolu (ul. Piastowska 20\, Opole)
SUMMARY:Uwaga! Od 7 do 29 XI biblioteka NIECZYNNA!
URL:https://wbp.opole.pl/kalendarz/wydarzenie/404-uwaga-od-7-do-29-xi-bibli
 oteka-nieczynna
END:VEVENT
BEGIN:VEVENT
UID:20260424T175112CEST-25723xJgMN@https://wbp.opole.pl/
DTSTAMP:20260424T155112Z
DESCRIPTION:Paweł Próchniak – literaturoznawca\, antropolog literatury\, kr
 ytyk literacki. Przewodniczący Rady Dyscypliny Literaturoznawstwo Uniwersy
 tetu Pedagogicznego im. KEN w&nbsp\;Krakowie. Członek prezydium Komitetu N
 auk o&nbsp\;Literaturze PAN\, redakcji kwartalnika „Konteksty. Polska Sztu
 ka Ludowa”\, Rady Fundacji im. Zbigniewa Herberta oraz Polskiego PEN Clubu
  i&nbsp\;Stowarzyszenia Autorów ZAiKS. Juror Nagrody Literackiej Nike. Wie
 loletni współpracownik Ośrodka Brama Grodzka – Teatr NN\, gdzie m.in. kier
 uje Pracownią Antropologii Słowa. Pomysłodawca i&nbsp\;współorganizator Mi
 asta Poezji w&nbsp\;Lublinie oraz kierunku studiów teksty kultury i&nbsp\;
 animacja sieci (KUL). Pomysłodawca i&nbsp\;redaktor naczelny witryny stron
 ypoezji.pl. Autor ośmiu książek poświęconych literaturze polskiej.\nPromie
 niowanie tła Pawła Próchniaka to erudycyjna książka o&nbsp\;sile i&nbsp\;g
 łębi poezji. Zbiór esejów wybitnego literaturoznawcy ukazujący\, jak czyta
 ć wiersze i&nbsp\;jak czerpać z&nbsp\;nich radość\, zrozumienie\, mądrość.
 \n„Lektura jest pracą wyobraźni – tej samej\, która funduje literaturę. To
  imaginacyjny żywioł z&nbsp\;milczenia świata wyprowadza dreszcz mowy\, si
 eć słów zmienia w&nbsp\;unerwienie istnienia\, konstelacje fikcyjnych obra
 zów i&nbsp\;zdarzeń spokrewnia z&nbsp\;mrowieniem realnej rzeczywistości. 
 Ten dreszcz niekiedy wybudza świat z&nbsp\;martwoty\, stwarza go na nowo\,
  nasyca sensem. Ale bywa i&nbsp\;tak\, że w&nbsp\;dreszczu mowy – w&nbsp\;
 dreszczu metafory\, w&nbsp\;wierszu\, w&nbsp\;opowieści – odnajduje się zi
 mny spazm katastrofy\, która nurtuje w&nbsp\;głębi istnienia\, trawi je ci
 emnością\, spopiela\, wywraca na nice i&nbsp\;nigdy nie ustaje. Spojrzenie
  w&nbsp\;te okryte nocą\, wypalone obszary wymaga odwagi. Niełatwo im spro
 stać. Warto jednak przyglądać się im uważnie\, warto wychodzić im naprzeci
 w\, bo to właśnie one stwarzają możliwość pomyślenia rzeczy nie do pomyśle
 nia\, pozwalają wyruszyć w&nbsp\;nieznane – poza widnokrąg\, który jest kr
 awędzią przepaści”.&nbsp\;\n25 listopada\, godz. 17:00\nhttps://www.facebo
 ok.com/wbpopole\nProwadzenie: Jacek Podsiadło\nSpotkanie realizowane w ram
 ach projektu 'Ogrody literatury'\, dofinansowanego ze środków Ministra Kul
 tury i Dziedzictwa Narodowego\, pochodzących z Funduszu Promocji Kultury.
 \n&nbsp\;&nbsp\;\n&nbsp\;\n&nbsp\;\n&nbsp\;\n&nbsp\;\n&nbsp\;\n&nbsp\;\n&n
 bsp\;\n&nbsp\;\n&nbsp\;\n&nbsp\;\n&nbsp\;\n&nbsp\;\n&nbsp\;\n&nbsp\;\n&nbs
 p\;\n https://wbp.opole.pl/kalendarz/wydarzenie/409-25-xi-pawel-prochniak
DTSTART;VALUE=DATE:20201125
LOCATION:Wojewódzka Biblioteka Publiczna ul. Piastowska 20 ()
SUMMARY:25 XI - Paweł Próchniak
URL:https://wbp.opole.pl/kalendarz/wydarzenie/409-25-xi-pawel-prochniak
END:VEVENT
BEGIN:VEVENT
UID:20260424T175112CEST-25772nXXAU@https://wbp.opole.pl/
DTSTAMP:20260424T155112Z
DESCRIPTION:Plan spotkań autorskich na czerwiec&nbsp\;\nZACZYTANE OPOLSKIE
 \n\n\n\n\n05.06.2024\n\n\nMarcin Meller\n\n\nPrudnik godz. 18.00\n\n\nZacz
 ytane Opolskie\n\n\n\n\n06.06.2024\n\n\nMarcin Meller\n\n\nWBP w Opolu god
 z. 17.00\n\n\nZaczytane Opolskie\n\n\n\n\n07.06.2024\n\n\nMarcin Meller\n
 \n\nNamysłów godz. 17.00\n\n\nZaczytane Opolskie\n\n\n\n\n07.06.2024\n\n\n
 Artur Andrus\n\n\nPraszka godz. 17.00\n\n\nZaczytane Opolskie\n\n\n\n\n10.
 06.2024\n\n\nJarosław Mikołajewski\n\n\nGogolin dla dzieci godz.10.00\n\n
 \nDyskusyjny Klub Książki\n\n\n\n\n10.06.2024\n\n\nJarosław Mikołajewski\n
 \n\nŁubniany&nbsp\; godz. 18.00\n\n\nZaczytane Opolskie\n\n\n\n\n11.06.202
 4\n\n\nJarosław Mikołajewski\n\n\nBaborów dla dzieci godz. 11.00\n\n\nDysk
 usyjny Klub Książki\n\n\n\n\n10.06.2024\n\n\nMarta Abramowicz\n\n\nWBP w O
 polu godz. 17.00\n\n\nZaczytane Opolskie\n\n\n\n\n11.06.2024\n\n\nMarta Ab
 ramowicz\n\n\nDobrodzień godz. 18.00\n\n\nZaczytane Opolskie\n\n\n\n\n12.0
 6.2024\n\n\nMarta Abramowicz\n\n\nDobrzeń Wielki godz. 17.30\n\n\nZaczytan
 e Opolskie\n\n\n\n\n13.06.2024\n\n\nMarta Abramowicz\n\n\nGłuchołazy godz.
  17.00\n\n\nDyskusyjny Klub Książki\n\n\n\n\n14.06.2024\n\n\nJan Miodek\n
 \n\nWBP w Opolu godz. 17.00\n\n\nZaczytane Opolskie\n\n\n\n\n17.06.2024\n
 \n\nAgnieszka Lis\n\n\nWilków godz. 17.00\n\n\nZaczytane Opolskie\n\n\n\n
 \n18.06.2024\n\n\nAgnieszka Lis\n\n\nŚwierczów godz. 17.00\n\n\nZaczytane 
 Opolskie\n\n\n\n\n19.06.2024\n\n\nAgnieszka Lis\n\n\nLubsza f. Kościerzyce
  godz. 16.00\n\n\nZaczytane Opolskie\n\n\n\n\n20.06.2024\n\n\nAgnieszka Li
 s\n\n\nTurawa godz. 17.00\n\n\nZaczytane Opolskie\n\n\n\n\n21.06.2024\n\n
 \nAgnieszka Lis\n\n\nLasowice godz. 17.00\n\n\nZaczytane Opolskie\n\n\n\n 
 https://wbp.opole.pl/kalendarz/wydarzenie/937-zaczytane-opolskie-2024-r
DTSTART:20200106T141500Z
DTEND:20250306T161500Z
LOCATION:Wojewódzka Biblioteka Publiczna ul. Piastowska 20 ()
SUMMARY:'Zaczytane Opolskie' 2024 r.
URL:https://wbp.opole.pl/kalendarz/wydarzenie/937-zaczytane-opolskie-2024-r
END:VEVENT
END:VCALENDAR
