BEGIN:VCALENDAR
VERSION:2.0
PRODID:-//https://wbp.opole.pl///NONSGML kigkonsult.se iCalcreator 2.10.15//
METHOD:PUBLISH
BEGIN:VEVENT
UID:20260421T193916CEST-5811foHBfv@https://wbp.opole.pl/
DTSTAMP:20260421T173916Z
DESCRIPTION:Zapraszamy na wystawę poświęconą Stanisławowi Lemowi z okazji o
 bchodów setnej rocznicy urodzin pisarza\nGdyby przeprowadzić sondę uliczną
  i zadać jej uczestnikom pytanie: kim był Stanisław Lem\, zdecydowana więk
 szość odpowiedziałaby - polskim pisarzem science fiction. Może niektórzy d
 orzuciliby\, że był prekursorem tego gatunku w naszej rodzimej literaturze
 . Cóż\, to wszystko prawda\, ja sam jeszcze do niedawna nie powiedziałbym 
 wiele więcej bo\, z twórczością Lema zetknąłem się w szkole\, gdzie Bajki 
 robotów i wybrane opowiadania o pilocie Pirxie widniały na ówczesnej liści
 e lektur. Jednak ta prawda nawet w połowie nie wyczerpuje tematu jaką jest
  twórczość Stanisława Lema.\nSam autor tak odpowiedział na próbę klasyfika
 cji jego twórczości: „ Zasadniczo nie zastanawiam się nad takimi klasyfika
 cyjnymi problemami&nbsp\;jak ten —&nbsp\;jakim jestem pisarzem? Po&nbsp\;p
 rostu&nbsp\;—&nbsp\;tak jak nikt z nas żyjąc nie rozmyśla o tym\, że jest 
 ssakiem\,&nbsp\;kręgowcem\, że należy&nbsp\;do takiej czy innej podklasy —
 &nbsp\;tak&nbsp\;i ja robię to\, co mnie najbardziej interesuje od dawna”.
  A co interesowało Lema? Lista jest bardzo długa. Jeszcze we Lwowie 1940 r
 oku Lem rozpoczął studia medyczne\, które kontynuował później w Krakowie p
 o akcji repatriacyjnej. Choć studiów nie ukończył z premedytacją by unikną
 ć dożywotniego wcielania do wojska\, studentem był pilnym. Jego zamiłowani
 e do nauki zauważył doktor Mieczysław Choynowski – protoplasta lemowskich 
 genialnych i szalonych naukowców pokroju Dońdy czy Vilperdiusa. Dzięki udz
 iałowi w konserwatoriach Choynowskiego\, stawiający pierwsze pisarskie kro
 ki Lem posiadł ogromną wiedzę z dziedzin nauk przyrodniczych co odróżniało
  go od innych autorów SF i zaowocowało arcydziełami gatunku\, takimi jak S
 olaris czy Głos Pana. Ciężko uwierzyć\, że najgłośniejsze tytuły powstawał
 y w ciężkich twórczych bólach\, a powody ich zaistnienia bywały bardzo pra
 gmatyczne. Dużo pisarskiej radości sprawiało natomiast Lemowi pisanie paro
 dii gatunku\, mocno podlanych ironią i szlachetnym poczuciem humoru. Cyber
 iada jest tutaj chyba najlepszym przykładem takiego stylu. Ukazała ona nie
  tylko słowotwórczy geniusz Lema\, który na jej potrzeby wymyślił oryginal
 ny język „staroroboci”\, ale za sprawą pomieszania średniowiecznych baśni 
 z SF\, w momencie premiery stała się fenomenem na skalę światową. Na drugi
 m biegunie pisarskich przyjemności leży Summa technologiae. Epicki esej po
 ruszający zagadnienia o ogromnej wadze intelektualnej. Po publikacji\, dys
 kusje z Lemem na temat przyszłości cywilizacji\, perspektywy kontaktu z in
 nymi cywilizacjami czy inżynierii genetycznej\, podjęli najpoważniejsi int
 elektualiści tacy jak\, np. Leszek Kołakowski. Kto wie\, może gdyby Summa 
 została opublikowana po angielsku w Stanach\, dziś na wirtualną rzeczywist
 ość mówilibyśmy fantomatyka\, którą Lem trafnie prognozował w roku 1964.\n
 Stanisław Lem był błyskotliwym myślicielem\, który celnie potrafił wypunkt
 ować nasze lęki czy nadzieje. Traktował fabuły jako nośniki do zobrazowani
 a problemów całych społeczeństw. Budził kontrowersje\, bo jego ocena gatun
 ku ludzkiego\, który uważa siebie za najdoskonalszy byt\, daleka była od o
 ptymizmu.\nW tym roku obchodzimy setna rocznicę urodzin Stanisława Lema – 
 wybitnego pisarza i filozofa XX wieku.\n&nbsp\;\nWystawę można oglądać\ndo
  30 października\nw Małej Galerii przy ul. Piastowskiej 18\nponiedziałek-p
 iątek godz. 09:00-20:00\nsobota godz. 09:00-15:30\n. https://wbp.opole.pl/
 kalendarz/wydarzenie/505-wystawa-lem-pisarz-z-planety-ziemia
DTSTART:20210906T134100Z
DTEND:20211030T180000Z
LOCATION:Wojewódzka Biblioteka Publiczna ul. Piastowska 20 ()
SUMMARY:Wystawa Lem - pisarz z planety Ziemia
URL:https://wbp.opole.pl/kalendarz/wydarzenie/505-wystawa-lem-pisarz-z-plan
 ety-ziemia
END:VEVENT
BEGIN:VEVENT
UID:20260421T193916CEST-5819dv8bAj@https://wbp.opole.pl/
DTSTAMP:20260421T173916Z
DESCRIPTION:Zapraszamy na spotkanie z profesorem Stanisławem S. Nicieją ora
 z promocję XVII tomu 'Kresowej Atlantydy'.\n&nbsp\;\nTwierdze kresowe Rzec
 zypospolitej Obojga Narodów\n'Gdy przed dziesięciu laty rozpoczynałem prac
 ę nad tym cyklem\, sądziłem\, że zamknę go w kilku tomach. Tymczasem przed
 kładam czytelnikom już XVII tom i nie jestem w stanie określić\, kiedy nas
 tąpi koniec tej sagi. Nie przewidziałem bowiem reakcji czytelników\, którz
 y nie tylko kolekcjonują wszystkie tomy „Kresowej Atlantydy”\, ale też cią
 gle sygnalizują oczekiwanie na kolejne pozycje i jednocześnie przesyłają z
 adziwiające materiały archiwalne\, ikonograficzne i wspomnieniowe wydobyte
  ze swoich zbiorów rodzinnych. W ten sposób powstaje ta niekończąca się op
 owieść kresowa o czasach i o ludziach\, którzy przeminęli\, ale świadkowie
  ich dokonań potrafili zachować pamięć o ich czynach i dramatach – latach 
 wzlotów i upadków.\nMoim czytelnikom zawdzięczam nie tylko faktografię i d
 okumentację archiwalną\, której nie znalazłbym w żadnym państwowym archiwu
 m\, ale też niebywałą sympatię\, jaka ostatnio objawiła się najdobitniej\,
  gdy w konkursie „Portrety” ogłoszonym przez redakcję miesięcznika „Kraków
 ” na najlepszą pracę biograficzną wydaną w 2020 roku\, XV – wileński tom „
 Kresowej Atlantydy” zwyciężył\, uzyskując większość wszystkich głosów czyt
 elników oddanych na 20 prac biograficznych wybranych z puli 120 przez jury
  pod przewodnictwem Artura Więcka-Barona. Gdy się ma taką akceptację czyte
 lniczą\, to rosną skrzydła i chce się pisać dalej.\nW XVII tomie „Kresowej
  Atlantydy” koncentruję swą uwagę na twierdzach kresowych\, które broniły 
 granic Rzeczypospolitej Obojga Narodów przed inwazją\, głównie islamu. Pot
 ężne mury tych fortec oraz obecność stacjonujących tam załóg wojskowych da
 wały okolicznej ludności poczucie bezpieczeństwa w czasach jakże częstych 
 inwazji i wojen. I choć od wielu pokoleń te twierdze są poza granicami pań
 stwa polskiego\, to weszły do polskiej legendy narodowej oraz literatury p
 ięknej\, a ich nazwy: Kamieniec Podolski\, Chocim\, Okopy Świętej Trójcy\,
  Jazłowiec i Trembowla są ciągle obecne w polskim dyskursie historycznym i
  myśleniu o przeszłości narodu.\nKamieniec Podolski został zmitologizowany
  przez Henryka Sienkiewicza w powieści „Pan Wołodyjowski”\, a ostatnio swo
 ją cegiełkę dołożyła Olga Tokarczuk w „Księgach Jakubowych”\; Okopy Święte
 j Trójcy żyją w pamięci dzięki Zygmuntowi Krasińskiemu i jego dramatowi „N
 ie-Boska komedia”\; Chocim zawdzięcza swą sławę Wespazjanowi Kochowskiemu 
 i jego eposowi „Wojna chocimska”\; Jazłowiec jest ciągle obecny w pamięci 
 dzięki Marcelinie Darowskiej i stworzonemu przez nią zakonowi niepokalanek
 \, a także legendzie Ułanów Jazłowieckich\; a Trembowlę i jej okolice zmit
 ologizowali pisarz Andrzej Mularczyk i reżyser Sylwester Chęciński w sławn
 ej trylogii o Kargulach i Pawlakach. Jak to się stało? Odpowiedź czytelnik
  znajdzie w tym XVII tomie'. (Stanisław S. Nicieja\, ze wstępu do XVII tom
 u 'Kresowej Atlantydy')\n&nbsp\;\n21 października 2021\, godz. 17:00\nOgró
 d WBP\, ul. Piastowska 20\nprowadzenie: Danuta Skalska\n&nbsp\;\nSpotkanie
  odbędzie się w ramach piątej edycji 'Zaczytanego Opolskiego' - akcji prom
 ującej czytelnictwo\, zainicjowanej i finansowanej przez Urząd Marszałkows
 ki w Opolu\, a realizowanej przez WBP w Opolu\, z udziałem bibliotek całeg
 o regionu. https://wbp.opole.pl/kalendarz/wydarzenie/520-spotkanie-z-prof-
 stanislawem-s-nicieja
DTSTART;VALUE=DATE:20211021
LOCATION:Wojewódzka Biblioteka Publiczna ul. Piastowska 20 ()
SUMMARY:Spotkanie z prof. Stanisławem S. Nicieją
URL:https://wbp.opole.pl/kalendarz/wydarzenie/520-spotkanie-z-prof-stanisla
 wem-s-nicieja
END:VEVENT
BEGIN:VEVENT
UID:20260421T193916CEST-5826N5puSi@https://wbp.opole.pl/
DTSTAMP:20260421T173916Z
DESCRIPTION:Perełki zabytkowej niemieckiej grafiki i najcenniejsze ilustrac
 je starych druków wydanych w Niemczech\, gromadzone od 70 lat w zbiorach W
 ojewódzkiej Biblioteki Publicznej w Opolu\, obejrzeć będzie można na wysta
 wie ”W kręgu kultury niemieckiej”. Na wystawie pokazane zostaną grafiki&nb
 sp\; wykonane w różnych technikach. Będą to drzeworyty\, miedzioryty\, sta
 loryty rytowników niemieckich\, reprodukujące obrazy znanych mistrzów euro
 pejskich. Ponadto zaprezentowana zostanie niemiecka grafika książkowa od X
 VI do XVIII wieku. Wiele z prezentowanych grafik poddanych zostało konserw
 acji.\nWernisaż odbędzie się 19.10. o godz. 13.00 w Galerii WuBePe przy ul
 . Piastowskiej 20\, a zabytkowe zbiory będzie można oglądać tylko do 13 li
 stopada.\nWystawa jest częścią 18. Dni Kultury Niemieckiej na Śląsku Opols
 kim https://wbp.opole.pl/kalendarz/wydarzenie/528-wystawa-w-kregu-kultury-
 niemieckiej
DTSTART:20211019T125700Z
DTEND:20211111T155700Z
LOCATION:Galeria WuBePe ()
SUMMARY:Wystawa W kręgu kultury niemieckiej
URL:https://wbp.opole.pl/kalendarz/wydarzenie/528-wystawa-w-kregu-kultury-n
 iemieckiej
END:VEVENT
BEGIN:VEVENT
UID:20260421T193916CEST-5829cWhtmD@https://wbp.opole.pl/
DTSTAMP:20260421T173916Z
DESCRIPTION:Wystawa „Sąsiedzi – o jednej z najtrwalszych granic w Europie. 
 Na wschodniej rubieży Górnego Śląska” zorganizowana we współpracy z Domem 
 Współpracy Polsko-Niemieckiej\, stanowi podróż historyczną tropami nieistn
 iejącej już wschodniej granicy Śląska\, która przez niemalże 600 lat oddzi
 elała ziemie śląskie od Królestwa Polskiego. Wsie i miasta położone po obu
  jej stronach\, czasem leżące w zasięgu wzroku\, znajdowały się w odrębnyc
 h organizmach państwowych\, czego konsekwencją były różnice w rozwoju cywi
 lizacyjnym\, różnice architektoniczne\, kulturowe\, tożsamościowe\, mental
 nościowe\, a także odmienne doświadczenia historyczne.&nbsp\;\nWystawa będ
 zie dostępna do 13.11.\nWystawa jest częścią 18. Dni Kultury Niemieckiej n
 a Śląsku Opolskim https://wbp.opole.pl/kalendarz/wydarzenie/529-wystawa-sa
 siedzi-o-jednej-z-najtrwalszych-granic-w-europie
DTSTART:20211019T130400Z
DTEND:20211113T160400Z
LOCATION:Galeria WuBePe ()
SUMMARY:Wystawa Sąsiedzi – o jednej z najtrwalszych granic w Europie
URL:https://wbp.opole.pl/kalendarz/wydarzenie/529-wystawa-sasiedzi-o-jednej
 -z-najtrwalszych-granic-w-europie
END:VEVENT
BEGIN:VEVENT
UID:20260421T193916CEST-58326vaZuu@https://wbp.opole.pl/
DTSTAMP:20260421T173916Z
DESCRIPTION:Plan spotkań autorskich na czerwiec&nbsp\;\nZACZYTANE OPOLSKIE
 \n\n\n\n\n05.06.2024\n\n\nMarcin Meller\n\n\nPrudnik godz. 18.00\n\n\nZacz
 ytane Opolskie\n\n\n\n\n06.06.2024\n\n\nMarcin Meller\n\n\nWBP w Opolu god
 z. 17.00\n\n\nZaczytane Opolskie\n\n\n\n\n07.06.2024\n\n\nMarcin Meller\n
 \n\nNamysłów godz. 17.00\n\n\nZaczytane Opolskie\n\n\n\n\n07.06.2024\n\n\n
 Artur Andrus\n\n\nPraszka godz. 17.00\n\n\nZaczytane Opolskie\n\n\n\n\n10.
 06.2024\n\n\nJarosław Mikołajewski\n\n\nGogolin dla dzieci godz.10.00\n\n
 \nDyskusyjny Klub Książki\n\n\n\n\n10.06.2024\n\n\nJarosław Mikołajewski\n
 \n\nŁubniany&nbsp\; godz. 18.00\n\n\nZaczytane Opolskie\n\n\n\n\n11.06.202
 4\n\n\nJarosław Mikołajewski\n\n\nBaborów dla dzieci godz. 11.00\n\n\nDysk
 usyjny Klub Książki\n\n\n\n\n10.06.2024\n\n\nMarta Abramowicz\n\n\nWBP w O
 polu godz. 17.00\n\n\nZaczytane Opolskie\n\n\n\n\n11.06.2024\n\n\nMarta Ab
 ramowicz\n\n\nDobrodzień godz. 18.00\n\n\nZaczytane Opolskie\n\n\n\n\n12.0
 6.2024\n\n\nMarta Abramowicz\n\n\nDobrzeń Wielki godz. 17.30\n\n\nZaczytan
 e Opolskie\n\n\n\n\n13.06.2024\n\n\nMarta Abramowicz\n\n\nGłuchołazy godz.
  17.00\n\n\nDyskusyjny Klub Książki\n\n\n\n\n14.06.2024\n\n\nJan Miodek\n
 \n\nWBP w Opolu godz. 17.00\n\n\nZaczytane Opolskie\n\n\n\n\n17.06.2024\n
 \n\nAgnieszka Lis\n\n\nWilków godz. 17.00\n\n\nZaczytane Opolskie\n\n\n\n
 \n18.06.2024\n\n\nAgnieszka Lis\n\n\nŚwierczów godz. 17.00\n\n\nZaczytane 
 Opolskie\n\n\n\n\n19.06.2024\n\n\nAgnieszka Lis\n\n\nLubsza f. Kościerzyce
  godz. 16.00\n\n\nZaczytane Opolskie\n\n\n\n\n20.06.2024\n\n\nAgnieszka Li
 s\n\n\nTurawa godz. 17.00\n\n\nZaczytane Opolskie\n\n\n\n\n21.06.2024\n\n
 \nAgnieszka Lis\n\n\nLasowice godz. 17.00\n\n\nZaczytane Opolskie\n\n\n\n 
 https://wbp.opole.pl/kalendarz/wydarzenie/937-zaczytane-opolskie-2024-r
DTSTART:20200106T141500Z
DTEND:20250306T161500Z
LOCATION:Wojewódzka Biblioteka Publiczna ul. Piastowska 20 ()
SUMMARY:'Zaczytane Opolskie' 2024 r.
URL:https://wbp.opole.pl/kalendarz/wydarzenie/937-zaczytane-opolskie-2024-r
END:VEVENT
END:VCALENDAR
