BEGIN:VCALENDAR
VERSION:2.0
PRODID:-//https://wbp.opole.pl///NONSGML kigkonsult.se iCalcreator 2.10.15//
METHOD:PUBLISH
BEGIN:VEVENT
UID:20260420T123414CEST-9287FUvb7p@https://wbp.opole.pl/
DTSTAMP:20260420T103414Z
DESCRIPTION:Dyrektor Wojewódzkiej Biblioteki Publicznej im. E. Smołki w Opo
 lu zaprasza na otwarcie wystawy „Mapy pozostają. Zabytkowa kartografia w z
 biorach Wojewódzkiej Biblioteki Publicznej w Opolu”&nbsp\;\n1 października
  2025 r.\,godz. 17.00Galeria WuBePe\, ul. Piastowska 20\nEkspozycję ogląda
 ć można do 29 października 2025 r.\nGaleria WuBePe&nbsp\;czynna:\nwtorek\,
  środa 10:00 - 16:00\, czwartek - piątek 10:00 - 18:00\, sobota - 10:00 - 
 16:00\, niedziela - NIECZYNNE https://wbp.opole.pl/kalendarz/wydarzenie/12
 09-wernisaz-mapy-pozostaja-zabytkowa-kartografia-w-zbiorach-wojewodzkiej-b
 iblioteki-publicznej-w-opolu
DTSTART:20251001T150000Z
DTEND:20251029T110000Z
LOCATION:Galeria WuBePe ()
SUMMARY:Wernisaż 'Mapy pozostają. Zabytkowa kartografia w zbiorach Wojewódz
 kiej Biblioteki Publicznej w Opolu'
URL:https://wbp.opole.pl/kalendarz/wydarzenie/1209-wernisaz-mapy-pozostaja-
 zabytkowa-kartografia-w-zbiorach-wojewodzkiej-biblioteki-publicznej-w-opol
 u
END:VEVENT
BEGIN:VEVENT
UID:20260420T123414CEST-9290KPwKvV@https://wbp.opole.pl/
DTSTAMP:20260420T103414Z
DESCRIPTION:Serdecznie zapraszamy na Dzień Otwarty Strefy Gier w WBP!&nbsp\
 ;\nW programie przygotowaliśmy atrakcje zarówno dla początkujących\, jak i
  doświadczonych graczy:\n12:00–14:00 – Prezentacja gier bitewnych z nauką 
 zasad14:00–16:00 – Prezentacja gier z portfolio wydawnictwa Phalanx wraz z
  nauką zasad16:00–18:00 – Turniej z nagrodami w grę Splendor&nbsp\;(koniec
 zna znajomość zasad))\nDodatkowo przez cały czas trwania wydarzenia – swob
 odny dostęp do gier ze strefy gier WBP.\nPrzyjdź\, poznaj nowe gry\, spędź
  czas w dobrym towarzystwie i spróbuj swoich sił w turnieju! https://wbp.o
 pole.pl/kalendarz/wydarzenie/1212-dzien-otwarty-strefy-gier-w-wbp
DTSTART:20251011T100000Z
DTEND:20251011T190000Z
LOCATION:Wojewódzka Biblioteka Publiczna ul. Piastowska 20 ()
SUMMARY:Dzień Otwarty Strefy Gier w WBP
URL:https://wbp.opole.pl/kalendarz/wydarzenie/1212-dzien-otwarty-strefy-gie
 r-w-wbp
END:VEVENT
END:VCALENDAR
