BEGIN:VCALENDAR
VERSION:2.0
PRODID:-//https://wbp.opole.pl///NONSGML kigkonsult.se iCalcreator 2.10.15//
METHOD:PUBLISH
BEGIN:VEVENT
UID:20260420T122250CEST-3313VfMZ9j@https://wbp.opole.pl/
DTSTAMP:20260420T102250Z
DESCRIPTION:Zapraszamy na wystawę poświęconą Stanisławowi Lemowi z okazji o
 bchodów setnej rocznicy urodzin pisarza\nGdyby przeprowadzić sondę uliczną
  i zadać jej uczestnikom pytanie: kim był Stanisław Lem\, zdecydowana więk
 szość odpowiedziałaby - polskim pisarzem science fiction. Może niektórzy d
 orzuciliby\, że był prekursorem tego gatunku w naszej rodzimej literaturze
 . Cóż\, to wszystko prawda\, ja sam jeszcze do niedawna nie powiedziałbym 
 wiele więcej bo\, z twórczością Lema zetknąłem się w szkole\, gdzie Bajki 
 robotów i wybrane opowiadania o pilocie Pirxie widniały na ówczesnej liści
 e lektur. Jednak ta prawda nawet w połowie nie wyczerpuje tematu jaką jest
  twórczość Stanisława Lema.\nSam autor tak odpowiedział na próbę klasyfika
 cji jego twórczości: „ Zasadniczo nie zastanawiam się nad takimi klasyfika
 cyjnymi problemami&nbsp\;jak ten —&nbsp\;jakim jestem pisarzem? Po&nbsp\;p
 rostu&nbsp\;—&nbsp\;tak jak nikt z nas żyjąc nie rozmyśla o tym\, że jest 
 ssakiem\,&nbsp\;kręgowcem\, że należy&nbsp\;do takiej czy innej podklasy —
 &nbsp\;tak&nbsp\;i ja robię to\, co mnie najbardziej interesuje od dawna”.
  A co interesowało Lema? Lista jest bardzo długa. Jeszcze we Lwowie 1940 r
 oku Lem rozpoczął studia medyczne\, które kontynuował później w Krakowie p
 o akcji repatriacyjnej. Choć studiów nie ukończył z premedytacją by unikną
 ć dożywotniego wcielania do wojska\, studentem był pilnym. Jego zamiłowani
 e do nauki zauważył doktor Mieczysław Choynowski – protoplasta lemowskich 
 genialnych i szalonych naukowców pokroju Dońdy czy Vilperdiusa. Dzięki udz
 iałowi w konserwatoriach Choynowskiego\, stawiający pierwsze pisarskie kro
 ki Lem posiadł ogromną wiedzę z dziedzin nauk przyrodniczych co odróżniało
  go od innych autorów SF i zaowocowało arcydziełami gatunku\, takimi jak S
 olaris czy Głos Pana. Ciężko uwierzyć\, że najgłośniejsze tytuły powstawał
 y w ciężkich twórczych bólach\, a powody ich zaistnienia bywały bardzo pra
 gmatyczne. Dużo pisarskiej radości sprawiało natomiast Lemowi pisanie paro
 dii gatunku\, mocno podlanych ironią i szlachetnym poczuciem humoru. Cyber
 iada jest tutaj chyba najlepszym przykładem takiego stylu. Ukazała ona nie
  tylko słowotwórczy geniusz Lema\, który na jej potrzeby wymyślił oryginal
 ny język „staroroboci”\, ale za sprawą pomieszania średniowiecznych baśni 
 z SF\, w momencie premiery stała się fenomenem na skalę światową. Na drugi
 m biegunie pisarskich przyjemności leży Summa technologiae. Epicki esej po
 ruszający zagadnienia o ogromnej wadze intelektualnej. Po publikacji\, dys
 kusje z Lemem na temat przyszłości cywilizacji\, perspektywy kontaktu z in
 nymi cywilizacjami czy inżynierii genetycznej\, podjęli najpoważniejsi int
 elektualiści tacy jak\, np. Leszek Kołakowski. Kto wie\, może gdyby Summa 
 została opublikowana po angielsku w Stanach\, dziś na wirtualną rzeczywist
 ość mówilibyśmy fantomatyka\, którą Lem trafnie prognozował w roku 1964.\n
 Stanisław Lem był błyskotliwym myślicielem\, który celnie potrafił wypunkt
 ować nasze lęki czy nadzieje. Traktował fabuły jako nośniki do zobrazowani
 a problemów całych społeczeństw. Budził kontrowersje\, bo jego ocena gatun
 ku ludzkiego\, który uważa siebie za najdoskonalszy byt\, daleka była od o
 ptymizmu.\nW tym roku obchodzimy setna rocznicę urodzin Stanisława Lema – 
 wybitnego pisarza i filozofa XX wieku.\n&nbsp\;\nWystawę można oglądać\ndo
  30 października\nw Małej Galerii przy ul. Piastowskiej 18\nponiedziałek-p
 iątek godz. 09:00-20:00\nsobota godz. 09:00-15:30\n. https://wbp.opole.pl/
 kalendarz/wydarzenie/505-wystawa-lem-pisarz-z-planety-ziemia
DTSTART:20210906T134100Z
DTEND:20211030T180000Z
LOCATION:Wojewódzka Biblioteka Publiczna ul. Piastowska 20 ()
SUMMARY:Wystawa Lem - pisarz z planety Ziemia
URL:https://wbp.opole.pl/kalendarz/wydarzenie/505-wystawa-lem-pisarz-z-plan
 ety-ziemia
END:VEVENT
BEGIN:VEVENT
UID:20260420T122250CEST-3319TEv6O7@https://wbp.opole.pl/
DTSTAMP:20260420T102250Z
DESCRIPTION:Władysław Kozakiewicz –&nbsp\; lekkoatleta – tyczkarz i wielobo
 ista. Złoty medalista olimpijski w skoku o tyczce z Moskwy z roku 1980.Aut
 or słynnego gestu Kozakiewicza pokazanego radzieckiej publiczności podczas
  zwycięskiego skoku na Letnich Igrzyskach Olimpijskich w Moskwie w 1980 ro
 ku\, który stał się powszechnie rozpoznawanym symbolem sprzeciwu wobec rad
 zieckiego imperializmu w czasach PRL.Rekord życiowy - skok o tyczce – 5\,7
 8 m (30 lipca 1980\, Moskwa) – 8. wynik w historii polskiej lekkoatletyki.
 \nJacek Roman Wszoła – polski lekkoatleta\, który specjalizował się w skok
 u wzwyż.Dwukrotny uczestnik igrzysk olimpijskich – w pierwszym swoim starc
 ie w Montrealu (1976) zdobył złoty\, a cztery lata później w Moskwie srebr
 ny medal. W obu występach poprawiał rekord igrzysk olimpijskich. Halowy mi
 strz Europy oraz złoty medalista uniwersjady. Pierwszy sukces na arenie mi
 ędzynarodowej odniósł w 1975 roku\, wygrywając mistrzostwa Europy juniorów
 . Po zdobyciu olimpijskiego złota był nazywany „cudownym dzieckiem Montrea
 lu”.W latach 1974–1985 29 razy bronił barw narodowych w meczach międzypańs
 twowych\, odnosząc w nich 15 zwycięstw indywidualnych. Rekordzista Polski\
 , Europy i świata. W 1976 roku zajął drugie miejsce w plebiscycie Przegląd
 u Sportowego oraz zdobył Złote Kolce. Zasłużony Mistrz Sportu\, odznaczony
  Krzyżem Kawalerskim Orderu Odrodzenia Polski.\n1 października 2021\, godz
 . 17:00\nOgród WBP\nPo spotkaniu\, o godz. 18:00 odbędzie się projekcja fi
 lmu „Po złoto. Historia Władysława Kozakiewicza” w reżyserii Ksawerego Szc
 zepanika. Film wyświetlany jest w ramach Konkursu Głównego 19. Festiwalu O
 polskie Lamy. https://wbp.opole.pl/kalendarz/wydarzenie/516-spotkanie-z-wl
 adyslawem-kozakiewiczem-i-jackiem-wszola
DTSTART;VALUE=DATE:20211001
LOCATION:Wojewódzka Biblioteka Publiczna ul. Piastowska 20 ()
SUMMARY:Spotkanie z Władysławem Kozakiewiczem i Jackiem Wszołą
URL:https://wbp.opole.pl/kalendarz/wydarzenie/516-spotkanie-z-wladyslawem-k
 ozakiewiczem-i-jackiem-wszola
END:VEVENT
BEGIN:VEVENT
UID:20260420T122250CEST-3322Kzsz3a@https://wbp.opole.pl/
DTSTAMP:20260420T102250Z
DESCRIPTION:Mamy przyjemność zaprosić Państwa na wernisaż wystawy\nCO ROBIM
 Y PO GODZINACH?\nktóry odbędzie się w piątek 24 wrześniao godz. 14:00w Gal
 erii WuBePe\nNa wystawie zostaną zaprezentowane prace autorstwa pracownikó
 w Wojewódzkiej Biblioteki Publicznej w Opolu:Joanny CichoszDamiana Drzazgi
 Krzysztofa JabłońskiegoDoroty KaniGrażyny KasprzakElżbiety Kobieni Jolanty
  KwaśnejKordiana MichalakaNatalii NosovejAnny PietrzkiewiczBeaty StępniakM
 ałgorzaty ZdebKornelii StobrawyJustyny Jarząbek\nWystawa będzie dostępna d
 o 1 października\, a część prezentowanych prac będzie można zakupić. https
 ://wbp.opole.pl/kalendarz/wydarzenie/517-wystawa-prac-pracownikow-wbp
DTSTART:20210924T113500Z
DTEND:20211001T160000Z
LOCATION:Wojewódzka Biblioteka Publiczna ul. Piastowska 20 ()
SUMMARY:Wystawa prac pracowników WBP
URL:https://wbp.opole.pl/kalendarz/wydarzenie/517-wystawa-prac-pracownikow-
 wbp
END:VEVENT
BEGIN:VEVENT
UID:20260420T122250CEST-33247PetlB@https://wbp.opole.pl/
DTSTAMP:20260420T102250Z
DESCRIPTION:Zapraszamy do namiotu w ogrodzie WBPna pokazy filmów w ramach\n
 19. Festiwalu Filmowego Opolskie Lamy:\n&nbsp\;\n1.10. - 'Po złoto. Histor
 ia Władysława Kozakiewicza'\, godz. 18:00\n2.10. - 'Nature is my homeland'
 \, godz. 17:00\n&nbsp\;&nbsp\;&nbsp\;&nbsp\;&nbsp\;&nbsp\;&nbsp\; - 'Ostat
 nie pokolenie'\, godz. 20:00\n3.10. - '1970'\, godz. 17:00\n5.10. - 'Król'
 \, odcinek 1-2\, godz. 19:00\n6.10. - 'Antybohater'\, godz. 17:00 https://
 wbp.opole.pl/kalendarz/wydarzenie/518-19-festiiwal-filmowy-opolskie-lamy
DTSTART:20211001T180400Z
DTEND:20211006T200400Z
LOCATION:Wojewódzka Biblioteka Publiczna ul. Piastowska 20 ()
SUMMARY:19. Festiiwal Filmowy Opolskie Lamy
URL:https://wbp.opole.pl/kalendarz/wydarzenie/518-19-festiiwal-filmowy-opol
 skie-lamy
END:VEVENT
BEGIN:VEVENT
UID:20260420T122250CEST-33259u6Sis@https://wbp.opole.pl/
DTSTAMP:20260420T102250Z
DESCRIPTION:Plan spotkań autorskich na czerwiec&nbsp\;\nZACZYTANE OPOLSKIE
 \n\n\n\n\n05.06.2024\n\n\nMarcin Meller\n\n\nPrudnik godz. 18.00\n\n\nZacz
 ytane Opolskie\n\n\n\n\n06.06.2024\n\n\nMarcin Meller\n\n\nWBP w Opolu god
 z. 17.00\n\n\nZaczytane Opolskie\n\n\n\n\n07.06.2024\n\n\nMarcin Meller\n
 \n\nNamysłów godz. 17.00\n\n\nZaczytane Opolskie\n\n\n\n\n07.06.2024\n\n\n
 Artur Andrus\n\n\nPraszka godz. 17.00\n\n\nZaczytane Opolskie\n\n\n\n\n10.
 06.2024\n\n\nJarosław Mikołajewski\n\n\nGogolin dla dzieci godz.10.00\n\n
 \nDyskusyjny Klub Książki\n\n\n\n\n10.06.2024\n\n\nJarosław Mikołajewski\n
 \n\nŁubniany&nbsp\; godz. 18.00\n\n\nZaczytane Opolskie\n\n\n\n\n11.06.202
 4\n\n\nJarosław Mikołajewski\n\n\nBaborów dla dzieci godz. 11.00\n\n\nDysk
 usyjny Klub Książki\n\n\n\n\n10.06.2024\n\n\nMarta Abramowicz\n\n\nWBP w O
 polu godz. 17.00\n\n\nZaczytane Opolskie\n\n\n\n\n11.06.2024\n\n\nMarta Ab
 ramowicz\n\n\nDobrodzień godz. 18.00\n\n\nZaczytane Opolskie\n\n\n\n\n12.0
 6.2024\n\n\nMarta Abramowicz\n\n\nDobrzeń Wielki godz. 17.30\n\n\nZaczytan
 e Opolskie\n\n\n\n\n13.06.2024\n\n\nMarta Abramowicz\n\n\nGłuchołazy godz.
  17.00\n\n\nDyskusyjny Klub Książki\n\n\n\n\n14.06.2024\n\n\nJan Miodek\n
 \n\nWBP w Opolu godz. 17.00\n\n\nZaczytane Opolskie\n\n\n\n\n17.06.2024\n
 \n\nAgnieszka Lis\n\n\nWilków godz. 17.00\n\n\nZaczytane Opolskie\n\n\n\n
 \n18.06.2024\n\n\nAgnieszka Lis\n\n\nŚwierczów godz. 17.00\n\n\nZaczytane 
 Opolskie\n\n\n\n\n19.06.2024\n\n\nAgnieszka Lis\n\n\nLubsza f. Kościerzyce
  godz. 16.00\n\n\nZaczytane Opolskie\n\n\n\n\n20.06.2024\n\n\nAgnieszka Li
 s\n\n\nTurawa godz. 17.00\n\n\nZaczytane Opolskie\n\n\n\n\n21.06.2024\n\n
 \nAgnieszka Lis\n\n\nLasowice godz. 17.00\n\n\nZaczytane Opolskie\n\n\n\n 
 https://wbp.opole.pl/kalendarz/wydarzenie/937-zaczytane-opolskie-2024-r
DTSTART:20200106T141500Z
DTEND:20250306T161500Z
LOCATION:Wojewódzka Biblioteka Publiczna ul. Piastowska 20 ()
SUMMARY:'Zaczytane Opolskie' 2024 r.
URL:https://wbp.opole.pl/kalendarz/wydarzenie/937-zaczytane-opolskie-2024-r
END:VEVENT
END:VCALENDAR
