BEGIN:VCALENDAR
VERSION:2.0
PRODID:-//https://wbp.opole.pl///NONSGML kigkonsult.se iCalcreator 2.10.15//
METHOD:PUBLISH
BEGIN:VEVENT
UID:20260420T202537CEST-0301G0RECU@https://wbp.opole.pl/
DTSTAMP:20260420T182537Z
DESCRIPTION:Plan spotkań autorskich na czerwiec&nbsp\;\nZACZYTANE OPOLSKIE
 \n\n\n\n\n05.06.2024\n\n\nMarcin Meller\n\n\nPrudnik godz. 18.00\n\n\nZacz
 ytane Opolskie\n\n\n\n\n06.06.2024\n\n\nMarcin Meller\n\n\nWBP w Opolu god
 z. 17.00\n\n\nZaczytane Opolskie\n\n\n\n\n07.06.2024\n\n\nMarcin Meller\n
 \n\nNamysłów godz. 17.00\n\n\nZaczytane Opolskie\n\n\n\n\n07.06.2024\n\n\n
 Artur Andrus\n\n\nPraszka godz. 17.00\n\n\nZaczytane Opolskie\n\n\n\n\n10.
 06.2024\n\n\nJarosław Mikołajewski\n\n\nGogolin dla dzieci godz.10.00\n\n
 \nDyskusyjny Klub Książki\n\n\n\n\n10.06.2024\n\n\nJarosław Mikołajewski\n
 \n\nŁubniany&nbsp\; godz. 18.00\n\n\nZaczytane Opolskie\n\n\n\n\n11.06.202
 4\n\n\nJarosław Mikołajewski\n\n\nBaborów dla dzieci godz. 11.00\n\n\nDysk
 usyjny Klub Książki\n\n\n\n\n10.06.2024\n\n\nMarta Abramowicz\n\n\nWBP w O
 polu godz. 17.00\n\n\nZaczytane Opolskie\n\n\n\n\n11.06.2024\n\n\nMarta Ab
 ramowicz\n\n\nDobrodzień godz. 18.00\n\n\nZaczytane Opolskie\n\n\n\n\n12.0
 6.2024\n\n\nMarta Abramowicz\n\n\nDobrzeń Wielki godz. 17.30\n\n\nZaczytan
 e Opolskie\n\n\n\n\n13.06.2024\n\n\nMarta Abramowicz\n\n\nGłuchołazy godz.
  17.00\n\n\nDyskusyjny Klub Książki\n\n\n\n\n14.06.2024\n\n\nJan Miodek\n
 \n\nWBP w Opolu godz. 17.00\n\n\nZaczytane Opolskie\n\n\n\n\n17.06.2024\n
 \n\nAgnieszka Lis\n\n\nWilków godz. 17.00\n\n\nZaczytane Opolskie\n\n\n\n
 \n18.06.2024\n\n\nAgnieszka Lis\n\n\nŚwierczów godz. 17.00\n\n\nZaczytane 
 Opolskie\n\n\n\n\n19.06.2024\n\n\nAgnieszka Lis\n\n\nLubsza f. Kościerzyce
  godz. 16.00\n\n\nZaczytane Opolskie\n\n\n\n\n20.06.2024\n\n\nAgnieszka Li
 s\n\n\nTurawa godz. 17.00\n\n\nZaczytane Opolskie\n\n\n\n\n21.06.2024\n\n
 \nAgnieszka Lis\n\n\nLasowice godz. 17.00\n\n\nZaczytane Opolskie\n\n\n\n 
 https://wbp.opole.pl/kalendarz/wydarzenie/937-zaczytane-opolskie-2024-r
DTSTART:20200106T141500Z
DTEND:20250306T161500Z
LOCATION:Wojewódzka Biblioteka Publiczna ul. Piastowska 20 ()
SUMMARY:'Zaczytane Opolskie' 2024 r.
URL:https://wbp.opole.pl/kalendarz/wydarzenie/937-zaczytane-opolskie-2024-r
END:VEVENT
BEGIN:VEVENT
UID:20260420T202537CEST-0305kufW4F@https://wbp.opole.pl/
DTSTAMP:20260420T182537Z
DESCRIPTION:Serdecznie zapraszamy na wernisaż wystawy&nbsp\; fotograficznej
  'PEOPLE | LUDZIE'&nbsp\;Zdjęcia:&nbsp\;&nbsp\;Iza Fricker &amp\; Rod Fric
 ker\n26 czerwca&nbsp\;\ngodz. 18: 15\nBiblioteka Obcojęzyczna\, ul. Kośneg
 o 34\n&nbsp\; https://wbp.opole.pl/kalendarz/wydarzenie/989-wernisaz-wysta
 wy-fotograficznej-people-ludzie
DTSTART:20240626T091000Z
DTEND:20240930T111000Z
LOCATION:Biblioteka Obcojęzyczna (ul. Kośnego 34\, Opole)
SUMMARY:Wernisaż wystawy fotograficznej 'People | Ludzie'
URL:https://wbp.opole.pl/kalendarz/wydarzenie/989-wernisaz-wystawy-fotograf
 icznej-people-ludzie
END:VEVENT
BEGIN:VEVENT
UID:20260420T202537CEST-0306SM90uK@https://wbp.opole.pl/
DTSTAMP:20260420T182537Z
DESCRIPTION:Wojewódzka Biblioteka Publiczna w Opolu Biblioteka Austriacka z
 aprasza na kursy języka niemieckiego w roku akademickim 2024/2025 rozpoczy
 namy od października 2024 r. Cena już od 720 zł za semestr (60 lekcji). O 
 szczegóły proszę pytać: tel.&nbsp\;77 47 47 085. Planujemy zajęcia w grupa
 ch na różnych poziomach zaawansowania: od podstawowego do zaawansowanego p
 o 2 semestry nauki (120 lekcji). Zajęcia standardowe będą odbywały się w g
 odzinach popołudniowych w bibliotece (w razie konieczności w formie zdalne
 j).\nWięcej informacji:\n&nbsp\;http://www.ba.wbp.opole.pl/kursyjezykowe.p
 hp\n&nbsp\;\n&nbsp\;\n&nbsp\; https://wbp.opole.pl/kalendarz/wydarzenie/99
 2-kursy-jezyka-niemieckiego
DTSTART:20240627T092000Z
DTEND:20240930T112000Z
LOCATION:Biblioteka Austriacka (pl. Piłsudskiego 5\, Opole)
SUMMARY:Kursy języka niemieckiego
URL:https://wbp.opole.pl/kalendarz/wydarzenie/992-kursy-jezyka-niemieckiego
END:VEVENT
BEGIN:VEVENT
UID:20260420T202537CEST-0308imzFiV@https://wbp.opole.pl/
DTSTAMP:20260420T182537Z
DESCRIPTION:Obchody dni solidarności z osobami chorującymi psychicznie:22.0
 8 / 11:00Piknik w OpoluWystęp grupy teatralnej „W drodze” pt. „My cyganie”
 \,ogrody Wojewódzkiego Szpitala Specjalistycznego im. św. Jadwigi w Opolu
 \n 03.09 / 13:00Wernisaż wystawy „TWÓRCZOŚĆ ZNACZEŃ-SYMBOLE I KOLORY”Wysta
 wa prac pacjentów Wojewódzkiego Szpitala Specjalistycznego w Opolu oraz Sp
 ecjalistycznego Szpitala w BranicachNamiot w ogrodzie Wojewódzkiej Bibliot
 eki Publicznej w Opolu\, ul. Piastowska 20Ekspozycja wystawy do 30.09 Gale
 ria WuBePe\, ul. Piastowska 20\n 19.09.2024 Wycieczka do Ogrodów „Kapias” 
 Goczałkowice-Zdrój Zwiedzanie Ogrodów\, godz. 9:00\n21.09.2024 Wycieczka r
 owerowa\n30.09 / 16:00Aukcja prac pacjentów eksponowanych na wystawie „TWÓ
 RCZOŚĆ ZNACZEŃ-SYMBOLE I KOLOR”Galeria WuBePe\, ul. Piastowska 20\n&nbsp\;
 \nWystawa zrealizowana w ramach wniosku ”Biblioteka pełna emocji edycja 20
 24” dofinansowanego ze środków Ministerstwa Kultury i Dziedzictwa Narodowe
 go pochodzących z Funduszu Promocji Kultury. https://wbp.opole.pl/kalendar
 z/wydarzenie/1004-dni-solidarnosci-z-osobami-chorujacymi-psychicznie
DTSTART:20240822T063000Z
DTEND:20240930T083200Z
LOCATION:Wojewódzka Biblioteka Publiczna ul. Piastowska 20 ()
SUMMARY:Dni solidarności z osobami chorującymi psychicznie
URL:https://wbp.opole.pl/kalendarz/wydarzenie/1004-dni-solidarnosci-z-osoba
 mi-chorujacymi-psychicznie
END:VEVENT
BEGIN:VEVENT
UID:20260420T202537CEST-0310VzsX0A@https://wbp.opole.pl/
DTSTAMP:20260420T182537Z
DESCRIPTION:Bogdan Góralczyk – profesor zwyczajny w Centrum Europejskim Uni
 wersytetu Warszawskiego\, jego były dyrektor (2016-20). Politolog i sinolo
 g\, znany publicysta i były dyplomata\, m.in. na Węgrzech oraz w latach 20
 03-2008 ambasador RP w Tajlandii\, na Filipinach i w Związku Mjanma (d. Bi
 rma). &nbsp\;Autor wielu książek i publikacji w kraju i za granicą\, na te
 mat Chin i Azji\, problemów globalnych oraz Węgier. Ostatnio wydał: Wielki
  Renesans. Chińska transformacja i jej konsekwencje (2018)\, Węgierski syn
 drom Trianon (2020)\, Złota Ziemia roni łzy - esej birmański (wyd. II\, ro
 zszerzone i uaktualnione 2021)\, Zmierzch i brzask. Notes z Bangkoku (wyd.
  III\, rozszerzone i uaktualnione 2024)\, Świat Narodów Zagubionych (wywia
 d-rzeka\, 2021) oraz Nowy Długi Marsz. Chiny ery Xi Jinpinga (2021). Wraz 
 ze wznowieniem w 2022 r. tomu z 2010 r. Chiński Feniks. Paradoksy wschodzą
 cego mocarstwa domknął wydanie - unikatowego nie tylko na polskim rynku wy
 dawniczym - Chińskiego Tryptyku\, dotyczącego chińskiej transformacji i re
 form ostatnich dekad\, którego po części był naocznym świadkiem\, a niemal
  stale wnikliwym obserwatorem.\n25.09.2024r.\ngodz. 17:00\nNamiot w ogrodz
 ie WBP\, ul.&nbsp\;Piastowska 20\nModeratorka: dr Katarzyna KownackaSpotka
 nie odbędzie się&nbsp\; w ramach 8. edycji Festiwalu Kultur i Języków Świa
 ta realizowanego dzięki dofinansowaniu Ministerstwa Kultury i&nbsp\;Dziedz
 ictwa Narodowego oraz Samorządu Województwa Opolskiego.*Informujemy\, że s
 potkania organizowane przez WBP w Opolu są rejestrowane oraz fotografowane
 . Materiały służą realizacji celów statutowych i promocyjnych\, w tym publ
 ikowaniu na stronie www\, w social mediach i wydawnictwach WBP w Opolu htt
 ps://wbp.opole.pl/kalendarz/wydarzenie/1021-spotkanie-autorskie-z-bogdanem
 -goralczykiem
DTSTART:20240925T150000Z
DTEND:20240925T163000Z
LOCATION:Wojewódzka Biblioteka Publiczna ul. Piastowska 20 ()
SUMMARY:Spotkanie autorskie z Bogdanem Góralczykiem
URL:https://wbp.opole.pl/kalendarz/wydarzenie/1021-spotkanie-autorskie-z-bo
 gdanem-goralczykiem
END:VEVENT
END:VCALENDAR
