BEGIN:VCALENDAR
VERSION:2.0
PRODID:-//https://wbp.opole.pl///NONSGML kigkonsult.se iCalcreator 2.10.15//
METHOD:PUBLISH
BEGIN:VEVENT
UID:20260420T015937CEST-5425alDLZV@https://wbp.opole.pl/
DTSTAMP:20260419T235937Z
DESCRIPTION:„Zanim serce przywalą kamieniem” – Tadeusz Gajcy\n&nbsp\;\n8 lu
 tego 1922 roku w Warszawie przyszedł na świat Tadeusz Gajcy - uważany za n
 ajwybitniejszego\, obok Krzysztofa Kamila Baczyńskiego\, twórcę pokolenia 
 Kolumbów.\nW tym roku przypada więc setna rocznica urodzin poety\, krytyka
 \, dramaturga\, prozaika  i żołnierza Powstania Warszawskiego.\nUtwory Gaj
 cego\, tchnące często katastrofizmem\, wyróżniające się bogactwem metafor\
 , powstawały nieodmiennie w cieniu obsesyjnego myślenia o śmierci.\nPoeta 
 wojny\, którym zachwycali się m.in. Leopold Staff\, Czesław Miłosz i Zbign
 iew Herbert\, wciąż pozostaje nie do końca odkryty. Dorobek twórczy Gajceg
 o zamyka się w zaledwie dwóch latach (1942-1944)\, a jednak do dziś fascyn
 uje i porywa wrażliwą osobowością autora.\nNa wystawę „Zanim serce przywal
 ą kamieniem” – Tadeusz Gajcy zapraszamy\ndo Małej Galerii ul. Piastowska 1
 8\nWystawa będzie dostępna do 18 września. https://wbp.opole.pl/kalendarz/
 wydarzenie/649-wystawa-zanim-serce-przywala-kamieniem-tadeusz-gajcy
DTSTART:20220729T073300Z
DTEND:20220917T133300Z
LOCATION:Mała Galeria (ul. Piastowska 18\, Opole)
SUMMARY:Wystawa Zanim serce przywalą kamieniem - Tadeusz Gajcy
URL:https://wbp.opole.pl/kalendarz/wydarzenie/649-wystawa-zanim-serce-przyw
 ala-kamieniem-tadeusz-gajcy
END:VEVENT
BEGIN:VEVENT
UID:20260420T015937CEST-5428U37PBD@https://wbp.opole.pl/
DTSTAMP:20260419T235937Z
DESCRIPTION:Artur Barciś - aktor teatralny\, filmowy\, telewizyjny\, dubbin
 gowy\,&nbsp\; reżyser teatralny\, w 1979 roku ukończył Łódzką Szkołę Filmo
 wą. Pracował w Teatrze na Targówku\, w Teatrze Narodowym oraz w Teatrze At
 eneum\, grał między innymi w spektaklach Adama Hanuszkiewicza\, występował
  w serialach „Siedem życzeń”\, „Pan na Żuławach” i „Zmiennicy”. Pierwsze w
 ażniejsze role na dużym ekranie zagrał w 1981 roku w „Znachorze” Jerzego H
 offmana i „Człowieku z żelaza” Andrzeja Wajdy\, pojawił się również w dzie
 więciu częściach „Dekalogu” Krzysztofa Kieślowskiego. Grał u Wojciecha Mar
 czewskiego („Ucieczka z kina Wolność”)\, Kazimierza Kutza („Straszny sen D
 zidziusia Górkiewicza”\, „Pułkownik Kwiatkowski”)\, Leszka Wosiewicza („Kr
 oniki domowe”). Sympatię telewidzów zdobył występując u boku Cezarego Żaka
  w komediowym serialu „Miodowe lata” i w popularnym „Ranczu”. W 2021 roku 
 zagrał w serialu fabularnym \,\,Misja”\, w 2022 w dwóch filmach- \,\,Miłoś
 ć na pierwszą stronę” i \,\,Gdzie diabeł nie może…”\, aktualnie zobaczyć m
 ożna aktora na deskach Och Teatru w przedstawieniu pt. \,\,Słoneczni chłop
 cy”.\n&nbsp\;W październiku 2021 r. ukazała się książka będąca zapisem szc
 zerej i fascynującej rozmowy artysty z Kamilą Drecką &nbsp\;pt.\,\,Aktor m
 usi grać\, by żyć”.\nProwadzenie spotkania: Marcin Michrowski\n8 września\
 , godz. 17:00namiot w ogrodzie WBP\n&nbsp\;\nSpotkanie odbędzie się w&nbsp
 \;ramach piątej edycji Zaczytanego Opolskiego - akcji promującej czytelnic
 two\, zainicjowanej i&nbsp\;finansowanej przez Urząd Marszałkowski w&nbsp\
 ;Opolu\, a&nbsp\;realizowanej przez WBP w&nbsp\;Opolu\, z&nbsp\;udziałem b
 ibliotek całego regionu.\n* Informujemy\, że spotkania organizowane przez 
 WBP w Opolu są rejestrowane oraz fotografowane. Materiały służą realizacji
  celów statutowych i promocyjnych\, w tym publikowaniu na stronie www\, w 
 social mediach i wydawnictwach WBP w Opolu. https://wbp.opole.pl/kalendarz
 /wydarzenie/652-spotkanie-z-arturem-barcisiem
DTSTART;VALUE=DATE:20220908
LOCATION:Ogród WBP w Opolu (ul. Piastowska 20\, Opole)
SUMMARY:Spotkanie z Arturem Barcisiem
URL:https://wbp.opole.pl/kalendarz/wydarzenie/652-spotkanie-z-arturem-barci
 siem
END:VEVENT
BEGIN:VEVENT
UID:20260420T015937CEST-5431cO64ok@https://wbp.opole.pl/
DTSTAMP:20260419T235937Z
DESCRIPTION:Gramy razem z Wielką Orkiestrą Świątecznej Pomocy!\nZachęcamy d
 o licytacji książek z autografami (klik)\nGramy razem - do końca świata i 
 o jeden dzień dłużej! https://wbp.opole.pl/kalendarz/wydarzenie/722-wielka
 -orkiestra-swiatecznej-pomocy
DTSTART:20220831T080500Z
DTEND:20230213T110500Z
LOCATION:Wojewódzka Biblioteka Publiczna ul. Piastowska 20 ()
SUMMARY:Wielka Orkiestra Świątecznej Pomocy
URL:https://wbp.opole.pl/kalendarz/wydarzenie/722-wielka-orkiestra-swiatecz
 nej-pomocy
END:VEVENT
BEGIN:VEVENT
UID:20260420T015937CEST-5432LbL2Jl@https://wbp.opole.pl/
DTSTAMP:20260419T235937Z
DESCRIPTION:Plan spotkań autorskich na czerwiec&nbsp\;\nZACZYTANE OPOLSKIE
 \n\n\n\n\n05.06.2024\n\n\nMarcin Meller\n\n\nPrudnik godz. 18.00\n\n\nZacz
 ytane Opolskie\n\n\n\n\n06.06.2024\n\n\nMarcin Meller\n\n\nWBP w Opolu god
 z. 17.00\n\n\nZaczytane Opolskie\n\n\n\n\n07.06.2024\n\n\nMarcin Meller\n
 \n\nNamysłów godz. 17.00\n\n\nZaczytane Opolskie\n\n\n\n\n07.06.2024\n\n\n
 Artur Andrus\n\n\nPraszka godz. 17.00\n\n\nZaczytane Opolskie\n\n\n\n\n10.
 06.2024\n\n\nJarosław Mikołajewski\n\n\nGogolin dla dzieci godz.10.00\n\n
 \nDyskusyjny Klub Książki\n\n\n\n\n10.06.2024\n\n\nJarosław Mikołajewski\n
 \n\nŁubniany&nbsp\; godz. 18.00\n\n\nZaczytane Opolskie\n\n\n\n\n11.06.202
 4\n\n\nJarosław Mikołajewski\n\n\nBaborów dla dzieci godz. 11.00\n\n\nDysk
 usyjny Klub Książki\n\n\n\n\n10.06.2024\n\n\nMarta Abramowicz\n\n\nWBP w O
 polu godz. 17.00\n\n\nZaczytane Opolskie\n\n\n\n\n11.06.2024\n\n\nMarta Ab
 ramowicz\n\n\nDobrodzień godz. 18.00\n\n\nZaczytane Opolskie\n\n\n\n\n12.0
 6.2024\n\n\nMarta Abramowicz\n\n\nDobrzeń Wielki godz. 17.30\n\n\nZaczytan
 e Opolskie\n\n\n\n\n13.06.2024\n\n\nMarta Abramowicz\n\n\nGłuchołazy godz.
  17.00\n\n\nDyskusyjny Klub Książki\n\n\n\n\n14.06.2024\n\n\nJan Miodek\n
 \n\nWBP w Opolu godz. 17.00\n\n\nZaczytane Opolskie\n\n\n\n\n17.06.2024\n
 \n\nAgnieszka Lis\n\n\nWilków godz. 17.00\n\n\nZaczytane Opolskie\n\n\n\n
 \n18.06.2024\n\n\nAgnieszka Lis\n\n\nŚwierczów godz. 17.00\n\n\nZaczytane 
 Opolskie\n\n\n\n\n19.06.2024\n\n\nAgnieszka Lis\n\n\nLubsza f. Kościerzyce
  godz. 16.00\n\n\nZaczytane Opolskie\n\n\n\n\n20.06.2024\n\n\nAgnieszka Li
 s\n\n\nTurawa godz. 17.00\n\n\nZaczytane Opolskie\n\n\n\n\n21.06.2024\n\n
 \nAgnieszka Lis\n\n\nLasowice godz. 17.00\n\n\nZaczytane Opolskie\n\n\n\n 
 https://wbp.opole.pl/kalendarz/wydarzenie/937-zaczytane-opolskie-2024-r
DTSTART:20200106T141500Z
DTEND:20250306T161500Z
LOCATION:Wojewódzka Biblioteka Publiczna ul. Piastowska 20 ()
SUMMARY:'Zaczytane Opolskie' 2024 r.
URL:https://wbp.opole.pl/kalendarz/wydarzenie/937-zaczytane-opolskie-2024-r
END:VEVENT
END:VCALENDAR
