BEGIN:VCALENDAR
VERSION:2.0
PRODID:-//https://wbp.opole.pl///NONSGML kigkonsult.se iCalcreator 2.10.15//
METHOD:PUBLISH
BEGIN:VEVENT
UID:20260423T005028CEST-8883utRl4u@https://wbp.opole.pl/
DTSTAMP:20260422T225028Z
DESCRIPTION:Z okazji 20-lecia podpisania umowy o współpracy międzyregionaln
 ej pomiędzy Województwem Opolskim i Obwodem Iwano-Frankiwskim zapraszamy w
  podróż do świata Bojków – lub jak sami woleli o sobie mówić - Hirniaków\,
  Werchowyńców\, ludzi gór.\nWystawa „Z wizytą u Bojków” przybliża tereny w
  obwodzie iwano-frankiwskim (stanisławowskim)\, gdzie grupy Bojków najlicz
 niej zamieszkiwały okręg doliński. Dzięki współpracy z&nbsp\; Obwodową Pub
 liczną Biblioteką Naukową w&nbsp\;Iwano-Frankiwsku&nbsp\;na Ukrainie możem
 y pokazać Opolanom Bojków zamieszkujących te tereny również współcześnie.
 \nEkspozycja prezentuje zbiory WBP w Opolu\, Obwodowej Publicznej Bibliote
 ki Naukowej w&nbsp\;Iwano-Frankiwsku oraz materiały z prywatnej kolekcji T
 omasza Kuby Kozłowskiego\, którego wykład „W Dolinie Świcy. Od Bolechowa i
  Doliny do Wygody  i Przełęczy Wyszykowskiej” uświetni otwarcie wystawy.\n
 Wernisaż odbędzie się 5 lipca o godzinie 17.00 w ogrodzie WBP\nWystawa „Z 
 wizytą u Bojków”\n05 – 30 lipca\nGaleria WuBePe\, ul. Piastowska 20\nPonie
 działek-środa 10:00 – 16:00\nCzwartek-piątek 10:00 – 18:00\n\n&nbsp\; http
 s://wbp.opole.pl/kalendarz/wydarzenie/477-wystawa-z-wizyta-u-bojkow
DTSTART:20210705T080000Z
DTEND:20210730T160000Z
LOCATION:Galeria WuBePe ()
SUMMARY:Wystawa Z wizytą u Bojków
URL:https://wbp.opole.pl/kalendarz/wydarzenie/477-wystawa-z-wizyta-u-bojkow
END:VEVENT
BEGIN:VEVENT
UID:20260423T005028CEST-8886r29wWL@https://wbp.opole.pl/
DTSTAMP:20260422T225028Z
DESCRIPTION:Zapraszamy na wystawę poświęconą Krzysztofowi Kamilowi Baczyńsk
 iemu z okazji obchodów setnej rocznicy urodzin poety.\nWyjątkowe bogactwo 
 i oryginalność artystycznej wyobraźni sprawiają\, że&nbsp\; dzieło Krzyszt
 ofa Kamila Baczyńskiego&nbsp\; – mimo upływu czasu − pozostaje otwarte na 
 nowe odczytania i perspektywy krytyczne. Nie jest wcale tak\, że ten wybit
 ny poeta „zastygł w pomnik z uniesionym mieczem”\, aczkolwiek wciąż niezwy
 kle wpływowe są&nbsp\; tradycyjne interpretacje jego dzieła\,&nbsp\; które
  odwołują się do trafnych\, choć zarazem utartych kontekstów „porażenia ok
 upacyjnego”\, „tragizmu pokolenia Kolumbów”\, „patriotycznego poświęcenia”
  czy „spełnionej &nbsp\;apokalipsy”. Wystawa pt. „Baczyński pogodny (?)”\,
  nie zapoznając „uświęconych tradycją” egzegez\, pokazuje&nbsp\; mniej ocz
 ywiste\, a równie istotne oblicze warszawskiego artysty\, w którego teksta
 ch i obrazach\, obok egzystencjalnego lęku\, rozpaczy i cierpienia\, uobec
 niają się również – jakby na przekór wszystkiemu − &nbsp\;namiętna pochwał
 a życia\, ekstatyczna radość\, głęboka afirmacja rzeczywistości . Taki ogl
 ąd Baczyńskiego pozwala „wyrwać” go z&nbsp\; „pułapki” własnej legendy\, k
 tóra tę &nbsp\;niesamowitą\, niejednoznaczną\, rozwibrowaną niuansami twór
 czość wyraźnie spłaszcza i widzieć w nim nie tylko „poetę – katastrofistę”
 \, „poetę elegii i walki” czy „ofiarę krwi i pożogi”\, ale także\, a może 
 przede wszystkim\, poetę żarliwej\, choć trudnej nadziei na odmianę losu.
 \n&nbsp\;\nWystawę można oglądać\ndo 31 sierpnia\nw Małej Galerii przy ul.
  Piastowskiej 18\nponiedziałek godz. 10:00-16:00\nwtorek-piątek godz. 10:0
 0-18:00 https://wbp.opole.pl/kalendarz/wydarzenie/479-wystawa-baczynski-po
 godny
DTSTART:20210705T100600Z
DTEND:20210730T210600Z
LOCATION:Wojewódzka Biblioteka Publiczna ul. Piastowska 20 ()
SUMMARY:Wystawa Baczyński pogodny (?)
URL:https://wbp.opole.pl/kalendarz/wydarzenie/479-wystawa-baczynski-pogodny
END:VEVENT
BEGIN:VEVENT
UID:20260423T005028CEST-8889phtws2@https://wbp.opole.pl/
DTSTAMP:20260422T225028Z
DESCRIPTION:Plan spotkań autorskich na czerwiec&nbsp\;\nZACZYTANE OPOLSKIE
 \n\n\n\n\n05.06.2024\n\n\nMarcin Meller\n\n\nPrudnik godz. 18.00\n\n\nZacz
 ytane Opolskie\n\n\n\n\n06.06.2024\n\n\nMarcin Meller\n\n\nWBP w Opolu god
 z. 17.00\n\n\nZaczytane Opolskie\n\n\n\n\n07.06.2024\n\n\nMarcin Meller\n
 \n\nNamysłów godz. 17.00\n\n\nZaczytane Opolskie\n\n\n\n\n07.06.2024\n\n\n
 Artur Andrus\n\n\nPraszka godz. 17.00\n\n\nZaczytane Opolskie\n\n\n\n\n10.
 06.2024\n\n\nJarosław Mikołajewski\n\n\nGogolin dla dzieci godz.10.00\n\n
 \nDyskusyjny Klub Książki\n\n\n\n\n10.06.2024\n\n\nJarosław Mikołajewski\n
 \n\nŁubniany&nbsp\; godz. 18.00\n\n\nZaczytane Opolskie\n\n\n\n\n11.06.202
 4\n\n\nJarosław Mikołajewski\n\n\nBaborów dla dzieci godz. 11.00\n\n\nDysk
 usyjny Klub Książki\n\n\n\n\n10.06.2024\n\n\nMarta Abramowicz\n\n\nWBP w O
 polu godz. 17.00\n\n\nZaczytane Opolskie\n\n\n\n\n11.06.2024\n\n\nMarta Ab
 ramowicz\n\n\nDobrodzień godz. 18.00\n\n\nZaczytane Opolskie\n\n\n\n\n12.0
 6.2024\n\n\nMarta Abramowicz\n\n\nDobrzeń Wielki godz. 17.30\n\n\nZaczytan
 e Opolskie\n\n\n\n\n13.06.2024\n\n\nMarta Abramowicz\n\n\nGłuchołazy godz.
  17.00\n\n\nDyskusyjny Klub Książki\n\n\n\n\n14.06.2024\n\n\nJan Miodek\n
 \n\nWBP w Opolu godz. 17.00\n\n\nZaczytane Opolskie\n\n\n\n\n17.06.2024\n
 \n\nAgnieszka Lis\n\n\nWilków godz. 17.00\n\n\nZaczytane Opolskie\n\n\n\n
 \n18.06.2024\n\n\nAgnieszka Lis\n\n\nŚwierczów godz. 17.00\n\n\nZaczytane 
 Opolskie\n\n\n\n\n19.06.2024\n\n\nAgnieszka Lis\n\n\nLubsza f. Kościerzyce
  godz. 16.00\n\n\nZaczytane Opolskie\n\n\n\n\n20.06.2024\n\n\nAgnieszka Li
 s\n\n\nTurawa godz. 17.00\n\n\nZaczytane Opolskie\n\n\n\n\n21.06.2024\n\n
 \nAgnieszka Lis\n\n\nLasowice godz. 17.00\n\n\nZaczytane Opolskie\n\n\n\n 
 https://wbp.opole.pl/kalendarz/wydarzenie/937-zaczytane-opolskie-2024-r
DTSTART:20200106T141500Z
DTEND:20250306T161500Z
LOCATION:Wojewódzka Biblioteka Publiczna ul. Piastowska 20 ()
SUMMARY:'Zaczytane Opolskie' 2024 r.
URL:https://wbp.opole.pl/kalendarz/wydarzenie/937-zaczytane-opolskie-2024-r
END:VEVENT
END:VCALENDAR
