BEGIN:VCALENDAR
VERSION:2.0
PRODID:-//https://wbp.opole.pl///NONSGML kigkonsult.se iCalcreator 2.10.15//
METHOD:PUBLISH
BEGIN:VEVENT
UID:20260422T171550CEST-5306KCAH18@https://wbp.opole.pl/
DTSTAMP:20260422T151550Z
DESCRIPTION:Zapraszamy na wernisaż wystawy Z kresowego albumu: „Wileńskie A
 BC. Wilno Waldemara Wołkanowskiego”\n26 maja\, godz 13:00\nGaleria WuBePe\
 , ul. Piastowska 20\nSłowo wstępne wygłosi Waldemar Wołkanowski - doktor n
 auk humanistycznych\, historyk\, absolwent Uniwersytetu Opolskiego\, człon
 ek Polskiego Towarzystwa Historycznego Oddział Opole.Związany rodzinnie z 
 Wilnem od wczesnego dzieciństwa. Założyciel i prezes opolskiego oddziału T
 owarzystwa Miłośników Wilna i Ziemi Wileńskiej. Autor licznych artykułów w
  czasopismach naukowych i popularnych dotyczących dziejów Wilna\, zwłaszcz
 a okresu od połowy XIX wieku do 1945 roku. Autor publikacji: „Michał Węsła
 wski\, biografia prezydenta Wilna w latach 1905-1916” i „Wileńskie ABC. Lu
 dzie\, miejsca\, historie. Tom I”.Administrator i moderator grup tematyczn
 ych na portalu społecznościowym Facebook (Grupa Wilno oraz Wilno – obrazki
  z przeszłości). Pilot wycieczek i przewodnik turystyczny\, od kilku lat o
 rganizator spotkań edukacyjno-towarzyskich pod „ruszczycowym” hasłem „Wiln
 ianie – poznajcie Wilno”.\nWystawę zorganizowaną przez Waldemara Wołkanows
 kiego i Wojewódzką Bibliotekę Publiczną w Opolu będzie można oglądaćod 26 
 maja do 30 czerwca\nGaleria WuBePeul. Piastowska 20pon-śr 10:00 - 16:00czw
 -pt 10:00 - 18:00 https://wbp.opole.pl/kalendarz/wydarzenie/462-wystawa-wi
 lenskie-abc-wilno-waldemara-wolkanowskiego
DTSTART:20210525T220000Z
DTEND:20210618T080000Z
LOCATION:Galeria WuBePe ()
SUMMARY:Wystawa Wileńskie ABC. Wilno Waldemara Wołkanowskiego
URL:https://wbp.opole.pl/kalendarz/wydarzenie/462-wystawa-wilenskie-abc-wil
 no-waldemara-wolkanowskiego
END:VEVENT
BEGIN:VEVENT
UID:20260422T171550CEST-5310heIuFg@https://wbp.opole.pl/
DTSTAMP:20260422T151550Z
DESCRIPTION:Jesteście ciekawi kim jesteśmy\, skąd przychodzimy i dokąd zmie
 rzamy? W Małej Galerii przy ul. Piastowskiej 18 możecie obejrzeć wystawę p
 oświęconą pracownikom Wojewódzkiej Biblioteki Publicznej w Opolu. Pokazuje
 my na niej kto za tym stoi i co my tu robimy. Zobaczycie kto wybiera dla W
 as książki\, jaką drogę przechodzą\, zanim trafią w Wasze ręce oraz czym -
  poza promocją czytelnictwa - zajmuje się zespół WBP.\nWystawę można ogląd
 ać\ndo 30 czerwca\nod poniedziałku do piątku w godzinach 9:00 - 19:00\n&nb
 sp\;\nAutorzy wystawy:\nKrzysztof Jabłoński - zdjęcia\nNatalia Nosova - op
 racowanie graficzne\nMonika Ostrowska - koncepcja https://wbp.opole.pl/kal
 endarz/wydarzenie/463-wystawa-co-my-tu-robimy
DTSTART:20210507T105100Z
DTEND:20210630T170000Z
LOCATION:Wojewódzka Biblioteka Publiczna ul. Piastowska 20 ()
SUMMARY:Wystawa Co my tu robimy?
URL:https://wbp.opole.pl/kalendarz/wydarzenie/463-wystawa-co-my-tu-robimy
END:VEVENT
BEGIN:VEVENT
UID:20260422T171550CEST-5312nivMIV@https://wbp.opole.pl/
DTSTAMP:20260422T151550Z
DESCRIPTION:Edmund Borzemski urodził się w Opolu i tu ukończył Wyższą Szkoł
 ę Pedagogiczną (kierunek historia).\nMieszka w Korfantowie.\nDebiutował ja
 ko poeta w 1987 r. Publikował wiersze w licznych czasopismach i wydawnictw
 ach zbiorowych\, m. in. w „Piśmie literacko – artystycznym”\, „Zdaniu”\, „
 Kalendarzu Opolskim”\, „Kwartalniku Nauczyciela Opolskiego”\, „Opolu”\, ro
 czniku „Muzea walki”. Wydał zbiory poezji – w Opolskiej Oficynie Literacki
 ej „Wers” : „Podzielmy się słowem” (1992)\, „Obok milczenia” (1995)\, „Nie
 obecność to kamień” (1996)\, „Wyścig o” (1998)\, „Gwiazda Syzyfa” (2002)\;
  w krakowskiej Konfraterni Poetów: „Nie gasić gwiazd (2005)\, „Wiatrem po 
 szkle” (2009)\, „Przetrwać” (2011)\, „Człowiek za burtą” (2014)\, „Coraz w
 ięcej ciszy” (2015) oraz album poetycki „Fotografia poezji – poezja fotogr
 afii” (Niemodlin 2008) oraz „Przewodnik po wystawach stałych Centralnego M
 uzeum Jeńców Wojennych w Łambinowicach” (Opole 2004).\nW swoim dorobku pis
 arskim posiada również kilkadziesiąt artykułów z dziedziny krytyki literac
 kiej i historii. Należy do Związku Literatów Polskich (w oddziale opolskim
  ZLP pełnił funkcję sekretarza)\, Konfraterni Poetów w Krakowie\, Górnoślą
 skiego Towarzystwa Literackiego w Katowicach\, Nauczycielskiego Klubu Lite
 rackiego w Opolu oraz Niemodlińskiego Towarzystwa Regionalnego.\nPopularyz
 uje poezję wśród młodzieży szkolnej\, m. in. jako inicjator konkursu recyt
 atorskiego poezji jenieckiej oraz cyklicznych spotkań z poezją patriotyczn
 ą. Jest członkiem Wspólnoty Polskiej\, odbywał spotkania literackie z młod
 zieżą z Kresów. W uznaniu osiągnięć i zasług w dziedzinie kultury uhonorow
 any został tytułami „Zasłużony dla Gminy Korfantów” i&nbsp\; „Honorowy Oby
 watel Gminy Łambinowice” oraz odznaką honorową „Za zasługi dla województwa
  opolskiego”.\n&nbsp\;\n15 czerwca 2021\, godz. 17:00\nOgród WBP\, ul. Pia
 stowska 20\nProwadzenie: Harry Duda\n https://wbp.opole.pl/kalendarz/wydar
 zenie/471-spotkanie-z-edmundem-borzemskim
DTSTART;VALUE=DATE:20210615
LOCATION:Wojewódzka Biblioteka Publiczna ul. Piastowska 20 ()
SUMMARY:Spotkanie z Edmundem Borzemskim
URL:https://wbp.opole.pl/kalendarz/wydarzenie/471-spotkanie-z-edmundem-borz
 emskim
END:VEVENT
BEGIN:VEVENT
UID:20260422T171550CEST-5317pue1wU@https://wbp.opole.pl/
DTSTAMP:20260422T151550Z
DESCRIPTION:Plan spotkań autorskich na czerwiec&nbsp\;\nZACZYTANE OPOLSKIE
 \n\n\n\n\n05.06.2024\n\n\nMarcin Meller\n\n\nPrudnik godz. 18.00\n\n\nZacz
 ytane Opolskie\n\n\n\n\n06.06.2024\n\n\nMarcin Meller\n\n\nWBP w Opolu god
 z. 17.00\n\n\nZaczytane Opolskie\n\n\n\n\n07.06.2024\n\n\nMarcin Meller\n
 \n\nNamysłów godz. 17.00\n\n\nZaczytane Opolskie\n\n\n\n\n07.06.2024\n\n\n
 Artur Andrus\n\n\nPraszka godz. 17.00\n\n\nZaczytane Opolskie\n\n\n\n\n10.
 06.2024\n\n\nJarosław Mikołajewski\n\n\nGogolin dla dzieci godz.10.00\n\n
 \nDyskusyjny Klub Książki\n\n\n\n\n10.06.2024\n\n\nJarosław Mikołajewski\n
 \n\nŁubniany&nbsp\; godz. 18.00\n\n\nZaczytane Opolskie\n\n\n\n\n11.06.202
 4\n\n\nJarosław Mikołajewski\n\n\nBaborów dla dzieci godz. 11.00\n\n\nDysk
 usyjny Klub Książki\n\n\n\n\n10.06.2024\n\n\nMarta Abramowicz\n\n\nWBP w O
 polu godz. 17.00\n\n\nZaczytane Opolskie\n\n\n\n\n11.06.2024\n\n\nMarta Ab
 ramowicz\n\n\nDobrodzień godz. 18.00\n\n\nZaczytane Opolskie\n\n\n\n\n12.0
 6.2024\n\n\nMarta Abramowicz\n\n\nDobrzeń Wielki godz. 17.30\n\n\nZaczytan
 e Opolskie\n\n\n\n\n13.06.2024\n\n\nMarta Abramowicz\n\n\nGłuchołazy godz.
  17.00\n\n\nDyskusyjny Klub Książki\n\n\n\n\n14.06.2024\n\n\nJan Miodek\n
 \n\nWBP w Opolu godz. 17.00\n\n\nZaczytane Opolskie\n\n\n\n\n17.06.2024\n
 \n\nAgnieszka Lis\n\n\nWilków godz. 17.00\n\n\nZaczytane Opolskie\n\n\n\n
 \n18.06.2024\n\n\nAgnieszka Lis\n\n\nŚwierczów godz. 17.00\n\n\nZaczytane 
 Opolskie\n\n\n\n\n19.06.2024\n\n\nAgnieszka Lis\n\n\nLubsza f. Kościerzyce
  godz. 16.00\n\n\nZaczytane Opolskie\n\n\n\n\n20.06.2024\n\n\nAgnieszka Li
 s\n\n\nTurawa godz. 17.00\n\n\nZaczytane Opolskie\n\n\n\n\n21.06.2024\n\n
 \nAgnieszka Lis\n\n\nLasowice godz. 17.00\n\n\nZaczytane Opolskie\n\n\n\n 
 https://wbp.opole.pl/kalendarz/wydarzenie/937-zaczytane-opolskie-2024-r
DTSTART:20200106T141500Z
DTEND:20250306T161500Z
LOCATION:Wojewódzka Biblioteka Publiczna ul. Piastowska 20 ()
SUMMARY:'Zaczytane Opolskie' 2024 r.
URL:https://wbp.opole.pl/kalendarz/wydarzenie/937-zaczytane-opolskie-2024-r
END:VEVENT
END:VCALENDAR
