BEGIN:VCALENDAR
VERSION:2.0
PRODID:-//https://wbp.opole.pl///NONSGML kigkonsult.se iCalcreator 2.10.15//
METHOD:PUBLISH
BEGIN:VEVENT
UID:20260420T171115CEST-8560zjdX3k@https://wbp.opole.pl/
DTSTAMP:20260420T151115Z
DESCRIPTION:Zapraszamyna wernisaż wystawy fotografii Anatoliya Hryshchukapo
 święconych Pieninom:\nNieskończona głębia / Нескінченна глибина / Infinite
  depth \n&nbsp\;\nWernisaż odbędzie sięw środę\, 15 grudniao godzinie 17:0
 0w Bibliotece Obcojęzycznej WBP (ul. Kośnego 34)\nUwaga! ze względu na syt
 uację epidemiczną liczba uczestników ograniczona do 10 osób.Kontakt: 77 45
 3 91 94\, bo@wbp.opole.pl\nWystawa będzie prezentowana do końca lutego 202
 2 r. https://wbp.opole.pl/kalendarz/wydarzenie/551-wystawa-fotografii-nies
 konczona-glebia-infinite-depth
DTSTART:20211215T113500Z
DTEND:20220228T223500Z
LOCATION:Biblioteka Obcojęzyczna (ul. Kośnego 34\, Opole)
SUMMARY:Wystawa fotografii Nieskończona głębia / Нескінченна глибина / Infi
 nite depth 
URL:https://wbp.opole.pl/kalendarz/wydarzenie/551-wystawa-fotografii-niesko
 nczona-glebia-infinite-depth
END:VEVENT
BEGIN:VEVENT
UID:20260420T171115CEST-8563NRSSUG@https://wbp.opole.pl/
DTSTAMP:20260420T151115Z
DESCRIPTION:Marek Mączyński - fotograf\, którego przygoda z obiektywem zacz
 ęła się w połowie lat pięćdziesiątych ubiegłego wieku i trwa do dzisiaj z 
 różnym natężeniem i różnym skutkiem. Działa w amatorskim ruchu fotograficz
 nym. Jego zdjęcia prezentowane były na wystawach w Polsce i Czechach.  Fot
 ografię traktuje jako pasję\, która nigdy nie przeistoczyła się w komercję
 . Jest ona przyjemnością i odskocznią od teraźniejszości przenoszącą w inn
 y\, czasem  wręcz magiczny świat wyobraźni.\nWystawa 'Na szlaku' prezentuj
 e zdjęcia z wędrówek po Beskidzie Niskim.\nWystawa będzie prezentowana w G
 alerii 'Schody'przy ul. Piastowskiej 18do 31 marca 2022 roku https://wbp.o
 pole.pl/kalendarz/wydarzenie/555-wystawa-na-szlaku-zdjecia-z-wedrowek-po-b
 eskidzie-niskim
DTSTART:20220110T075800Z
DTEND:20220331T170000Z
LOCATION:Wojewódzka Biblioteka Publiczna ul. Piastowska 20 ()
SUMMARY:Wystawa Na szlaku - zdjęcia z wędrówek po Beskidzie Niskim
URL:https://wbp.opole.pl/kalendarz/wydarzenie/555-wystawa-na-szlaku-zdjecia
 -z-wedrowek-po-beskidzie-niskim
END:VEVENT
BEGIN:VEVENT
UID:20260420T171115CEST-8565d5lUhf@https://wbp.opole.pl/
DTSTAMP:20260420T151115Z
DESCRIPTION:Dr Tibor Gerencsér Konsul Generalny Węgier w Krakowieoraz Tadeu
 sz Chrobak Dyrektor Wojewódzkiej Biblioteki Publicznej w Opoluzapraszająna
  wernisaż wystawy plakatu V4\n1 lutegoo godz. 17:00w namiocie w ogrodzie W
 BP\nCztery kraje\, cztery języki\, dwunastu grafików. Zdarzało się\, że ro
 zmawiali ze sobą za pomocą słowników\, próbowali się porozumieć to po rosy
 jsku\, to po angielsku\, ale prędko zrozumieli\, że mają inny wspólny języ
 k. Jest nim plakat. Coś\, co da się wyrazić jednym obrazem\, choć do jego 
 objaśnienia potrzeba tysiąca słów. Postawiony punkt\, rozpoczęta linia\, f
 ragment rysunku na serwetce\, maseczce czy na odwrocie podstawki pod kufel
 ... szkice\, koncepty\, „komunikacja wizualna”. Rozumieliśmy się bez słów.
 \nŚwiatowy trend: plakat coraz częściej znika z przestrzeni publicznej. Wy
 cofuje się do galerii\, do sal muzealnych. Ale w Czechach\, na Słowacji\, 
 w Polsce i na Węgrzech plakaty pojawiają się jeszcze na słupach ogłoszenio
 wych. Mówi się wprawdzie\, że dziś istnieją już prędsze i znacznie tańsze 
 metody komunikacji społecznej\, ale plakat jest zrośnięty z obrazem ulicy 
 miejskiej. I pewnie też z sercami przechodniów.\nNa wystawie zaprezentowan
 e będą prace artystów:\nWęgry:István HORKAYDóra KERESZTESIstván OROSZ\nPol
 ska:Lech MAJEWSKIWładysław PLUTAAgnieszka&nbsp\; ZIEMISZEWSKA\nCzechy:Kare
 l MÍŠEKPavel NOGAJan RAJLICH Jr.\nSłowacja:Andrej HAŠČÁKDušan JUNEKVladisl
 av ROSTOKA\nKuratorem wystawy jest Krzysztof Ducki – artysta grafik\, abso
 lwent wydziału grafiki Akademii Sztuk Pięknych w Warszawie.Od 1982 roku mi
 eszka i pracuje w Budapeszcie\, gdzie wykłada na Uniwersytecie Metropolita
 n.Laureat węgierskiej nagrody państwowej Ferenczy Noemi i nagrody Golden P
 in Lifetime Achievement Award\, Budapeszt\, Węgry.Jest głównym organizator
 em Budapest PosterFest oraz jednym z założycieli grupy artystycznej DOPP i
  Węgierskiego Stowarzyszenia Plakatu.Odznaczony odznaką Zasłużony dla Kult
 ury Polskiej i Krzyżem Kawalerskim Orderu Zasługi Rzeczypospolitej Polskie
 j.\nWernisażowi będzie towarzyszył koncert zespołu Art Music Artist.W prog
 ramie:\n\n· Antonin&nbsp\;&nbsp\;Dvořák- Symnfonia nr 9\, cz. II Largo ( f
 ragment) na flet i fortepian (3')\n· Johann Kaspar Mertz - Fantaisie Hongr
 oise&nbsp\;Op. 65. na gitarę solo ( 7')\n· Ernst von&nbsp\;Dohnányi- Aria 
 Op. 46\, nr 1 na flet i fortepian (7')\n· Antonin&nbsp\;&nbsp\;Dvořák-&nbs
 p\;&nbsp\;Humoreska na flet i fortepian (4')\n· Johannes Brahms- Taniec Wę
 gierski nr 5 na gitarę solo ( 3')\n\nWykonawcy:&nbsp\;\n\n· Martyna Klupś-
 Radny- flet poprzeczny\n· Lucie Nesvadbová- gitara\n· Wioletta Fluda - Tka
 czyk- fortepian&nbsp\;\n\n&nbsp\;\nWystawa będzie eksponowana do 26 lutego
  w Galerii WuBePe.\n&nbsp\;\n* Informujemy\, że spotkania organizowane prz
 ez WBP w Opolu są rejestrowane oraz fotografowane. Materiały służą realiza
 cji celów statutowych i promocyjnych\, w tym publikowaniu na stronie www\,
  w social mediach i wydawnictwach WBP w Opolu. https://wbp.opole.pl/kalend
 arz/wydarzenie/556-wystawa-plakatu-v4
DTSTART;VALUE=DATE:20220201
LOCATION:Galeria WuBePe ()
SUMMARY:Wystawa plakatu V4
URL:https://wbp.opole.pl/kalendarz/wydarzenie/556-wystawa-plakatu-v4
END:VEVENT
BEGIN:VEVENT
UID:20260420T171115CEST-85706Url39@https://wbp.opole.pl/
DTSTAMP:20260420T151115Z
DESCRIPTION:W 2022 r. mija: 200 lat od daty śmierci&nbsp\;i 275 lat od urod
 zin Józefa&nbsp\;Wybickiego oraz 225 lat od&nbsp\;powstania Pieśni Legionó
 w Polskich we Włoszech.\nJózef Rufin Wybicki\, herbu Rogala urodził się 29
  września 1747 r. w Będominie na Kaszubach\, a zmarł 10 marca 1822 r. w Ma
 nieczkach.&nbsp\;Został pochowany przy kościele w Brodnicy. Obecnie spoczy
 wa w Krypcie Zasłużonych Wielkopolan w Poznaniu.\nKarierę polityczną rozpo
 czął od udziału w elekcji królewskiej Stanisława Augusta Poniatowskiego w 
 1764 roku. W 1780 r. został jego szambelanem. Do historii przeszła jego pr
 otestacja zgłoszona w trakcie sejmu repninowskiego w 1768 roku\, która prz
 ez współczesnych uznawana jest za jedno z pierwszych działań Konfederacji 
 Barskiej\, do której Wybicki dołączył. Na krótko wycofał się z polityki os
 iadając w Manieczkach\, które zakupił m.in. wraz z wsią Psarskie w 1781 r.
  W tej pierwszej miejscowości mieszkał\, tworzył utwory literackie oraz za
 łożył rodzinę.\nWkrótce powrócił do polityki będąc m.in. przedstawicielem 
 miast na sejmie w 1791 r. Po interwencji rosyjskiej i zwycięstwie targowic
 zan wziął udział w tajnych przygotowaniach do wybuchu Insurekcji Kościuszk
 owskiej. Po upadku insurekcji wyjechał do Paryża\, gdzie dzięki jego stara
 niom udało się uzyskać zgodę na utworzenie wojska polskiego u boku Francji
 . W lipcu 1797 roku w Reggio Emilia we Włoszech napisał 'Pieśń Legionów Po
 lskich we Włoszech'\, która od 1927 roku jest polskim hymnem narodowym.\nT
 o Józef Wybicki z gen. Janem Henrykiem Dąbrowskim napisali odezwę do Polak
 ów powołującą się na słowa Napoleona oraz stworzyli zręby Księstwa Warszaw
 skiego. W tej namiastce wolnej Polski Wybicki został wojewodą i senatorem.
 \n14 października ubiegłego roku\, podczas posiedzenia&nbsp\;Sejmu posłowi
 e zadecydowali o ustanowieniu&nbsp\;2022 Rokiem&nbsp\;Józefa Rufina Wybick
 iego.\nW związku z powyższym p. Aleksandra Bełkot z Biblioteki Muzycznej w
  Opolu przygotowała wystawę prezentującą sylwetkę Józefa Wybickiego. Na 10
  planszach\, przedstawiła jego rodowód\, życie osobiste\, działalność poli
 tyczną\, twórczość oraz okoliczności powstania dzisiejszego Hymnu Narodowe
 go – Mazurka Dąbrowskiego.\nWystawa będzie prezentowana do końca lutego 20
 22 r.w Małej Galerii Wojewódzkiej Biblioteki Publicznej w Opolu przy ul. P
 iastowskiej 18 https://wbp.opole.pl/kalendarz/wydarzenie/563-wystawa-jozef
 -wybicki-1747-1822
DTSTART:20220201T113300Z
DTEND:20220228T193300Z
LOCATION:Wojewódzka Biblioteka Publiczna ul. Piastowska 20 ()
SUMMARY:Wystawa Józef Wybicki 1747-1822 
URL:https://wbp.opole.pl/kalendarz/wydarzenie/563-wystawa-jozef-wybicki-174
 7-1822
END:VEVENT
BEGIN:VEVENT
UID:20260420T171115CEST-8575KE33gX@https://wbp.opole.pl/
DTSTAMP:20260420T151115Z
DESCRIPTION:Plan spotkań autorskich na czerwiec&nbsp\;\nZACZYTANE OPOLSKIE
 \n\n\n\n\n05.06.2024\n\n\nMarcin Meller\n\n\nPrudnik godz. 18.00\n\n\nZacz
 ytane Opolskie\n\n\n\n\n06.06.2024\n\n\nMarcin Meller\n\n\nWBP w Opolu god
 z. 17.00\n\n\nZaczytane Opolskie\n\n\n\n\n07.06.2024\n\n\nMarcin Meller\n
 \n\nNamysłów godz. 17.00\n\n\nZaczytane Opolskie\n\n\n\n\n07.06.2024\n\n\n
 Artur Andrus\n\n\nPraszka godz. 17.00\n\n\nZaczytane Opolskie\n\n\n\n\n10.
 06.2024\n\n\nJarosław Mikołajewski\n\n\nGogolin dla dzieci godz.10.00\n\n
 \nDyskusyjny Klub Książki\n\n\n\n\n10.06.2024\n\n\nJarosław Mikołajewski\n
 \n\nŁubniany&nbsp\; godz. 18.00\n\n\nZaczytane Opolskie\n\n\n\n\n11.06.202
 4\n\n\nJarosław Mikołajewski\n\n\nBaborów dla dzieci godz. 11.00\n\n\nDysk
 usyjny Klub Książki\n\n\n\n\n10.06.2024\n\n\nMarta Abramowicz\n\n\nWBP w O
 polu godz. 17.00\n\n\nZaczytane Opolskie\n\n\n\n\n11.06.2024\n\n\nMarta Ab
 ramowicz\n\n\nDobrodzień godz. 18.00\n\n\nZaczytane Opolskie\n\n\n\n\n12.0
 6.2024\n\n\nMarta Abramowicz\n\n\nDobrzeń Wielki godz. 17.30\n\n\nZaczytan
 e Opolskie\n\n\n\n\n13.06.2024\n\n\nMarta Abramowicz\n\n\nGłuchołazy godz.
  17.00\n\n\nDyskusyjny Klub Książki\n\n\n\n\n14.06.2024\n\n\nJan Miodek\n
 \n\nWBP w Opolu godz. 17.00\n\n\nZaczytane Opolskie\n\n\n\n\n17.06.2024\n
 \n\nAgnieszka Lis\n\n\nWilków godz. 17.00\n\n\nZaczytane Opolskie\n\n\n\n
 \n18.06.2024\n\n\nAgnieszka Lis\n\n\nŚwierczów godz. 17.00\n\n\nZaczytane 
 Opolskie\n\n\n\n\n19.06.2024\n\n\nAgnieszka Lis\n\n\nLubsza f. Kościerzyce
  godz. 16.00\n\n\nZaczytane Opolskie\n\n\n\n\n20.06.2024\n\n\nAgnieszka Li
 s\n\n\nTurawa godz. 17.00\n\n\nZaczytane Opolskie\n\n\n\n\n21.06.2024\n\n
 \nAgnieszka Lis\n\n\nLasowice godz. 17.00\n\n\nZaczytane Opolskie\n\n\n\n 
 https://wbp.opole.pl/kalendarz/wydarzenie/937-zaczytane-opolskie-2024-r
DTSTART:20200106T141500Z
DTEND:20250306T161500Z
LOCATION:Wojewódzka Biblioteka Publiczna ul. Piastowska 20 ()
SUMMARY:'Zaczytane Opolskie' 2024 r.
URL:https://wbp.opole.pl/kalendarz/wydarzenie/937-zaczytane-opolskie-2024-r
END:VEVENT
END:VCALENDAR
