BEGIN:VCALENDAR
VERSION:2.0
PRODID:-//https://wbp.opole.pl///NONSGML kigkonsult.se iCalcreator 2.10.15//
METHOD:PUBLISH
BEGIN:VEVENT
UID:20260423T171416CEST-80800VXt7l@https://wbp.opole.pl/
DTSTAMP:20260423T151416Z
DESCRIPTION:Plan spotkań autorskich na czerwiec&nbsp\;\nZACZYTANE OPOLSKIE
 \n\n\n\n\n05.06.2024\n\n\nMarcin Meller\n\n\nPrudnik godz. 18.00\n\n\nZacz
 ytane Opolskie\n\n\n\n\n06.06.2024\n\n\nMarcin Meller\n\n\nWBP w Opolu god
 z. 17.00\n\n\nZaczytane Opolskie\n\n\n\n\n07.06.2024\n\n\nMarcin Meller\n
 \n\nNamysłów godz. 17.00\n\n\nZaczytane Opolskie\n\n\n\n\n07.06.2024\n\n\n
 Artur Andrus\n\n\nPraszka godz. 17.00\n\n\nZaczytane Opolskie\n\n\n\n\n10.
 06.2024\n\n\nJarosław Mikołajewski\n\n\nGogolin dla dzieci godz.10.00\n\n
 \nDyskusyjny Klub Książki\n\n\n\n\n10.06.2024\n\n\nJarosław Mikołajewski\n
 \n\nŁubniany&nbsp\; godz. 18.00\n\n\nZaczytane Opolskie\n\n\n\n\n11.06.202
 4\n\n\nJarosław Mikołajewski\n\n\nBaborów dla dzieci godz. 11.00\n\n\nDysk
 usyjny Klub Książki\n\n\n\n\n10.06.2024\n\n\nMarta Abramowicz\n\n\nWBP w O
 polu godz. 17.00\n\n\nZaczytane Opolskie\n\n\n\n\n11.06.2024\n\n\nMarta Ab
 ramowicz\n\n\nDobrodzień godz. 18.00\n\n\nZaczytane Opolskie\n\n\n\n\n12.0
 6.2024\n\n\nMarta Abramowicz\n\n\nDobrzeń Wielki godz. 17.30\n\n\nZaczytan
 e Opolskie\n\n\n\n\n13.06.2024\n\n\nMarta Abramowicz\n\n\nGłuchołazy godz.
  17.00\n\n\nDyskusyjny Klub Książki\n\n\n\n\n14.06.2024\n\n\nJan Miodek\n
 \n\nWBP w Opolu godz. 17.00\n\n\nZaczytane Opolskie\n\n\n\n\n17.06.2024\n
 \n\nAgnieszka Lis\n\n\nWilków godz. 17.00\n\n\nZaczytane Opolskie\n\n\n\n
 \n18.06.2024\n\n\nAgnieszka Lis\n\n\nŚwierczów godz. 17.00\n\n\nZaczytane 
 Opolskie\n\n\n\n\n19.06.2024\n\n\nAgnieszka Lis\n\n\nLubsza f. Kościerzyce
  godz. 16.00\n\n\nZaczytane Opolskie\n\n\n\n\n20.06.2024\n\n\nAgnieszka Li
 s\n\n\nTurawa godz. 17.00\n\n\nZaczytane Opolskie\n\n\n\n\n21.06.2024\n\n
 \nAgnieszka Lis\n\n\nLasowice godz. 17.00\n\n\nZaczytane Opolskie\n\n\n\n 
 https://wbp.opole.pl/kalendarz/wydarzenie/937-zaczytane-opolskie-2024-r
DTSTART:20200106T141500Z
DTEND:20250306T161500Z
LOCATION:Wojewódzka Biblioteka Publiczna ul. Piastowska 20 ()
SUMMARY:'Zaczytane Opolskie' 2024 r.
URL:https://wbp.opole.pl/kalendarz/wydarzenie/937-zaczytane-opolskie-2024-r
END:VEVENT
BEGIN:VEVENT
UID:20260423T171416CEST-80849Dp52A@https://wbp.opole.pl/
DTSTAMP:20260423T151416Z
DESCRIPTION:Dyrektor Wojewódzkiej Biblioteki Publicznej w Opolu i Dyrektor 
 Muzeum Śląska Opolskiego w Opolu zapraszają na spotkanie poświęcone twórcz
 ości opolskiego fotografika Gintera Stillera. Postać Gintera Stillera będą
  przedstawiać między innymi: dr Bogna Szafraniec\, Alicja Stiller oraz prz
 edstawiciele opolskich fotografików.\n Ginter Stiller (1940-2023) był praw
 nikiem\, absolwentem prawa na Uniwersytecie Wrocławskim i artystą fotograf
 em\, członkiem Opolskiego Towarzystwa Fotograficznego. Brał udział w ponad
  200 wystawach fotograficznych w kraju i za granicą.\n21.01.2025godz. 17:0
 0Czytelnia WBP\, ul. Piastowska 18\n* Informujemy\, że spotkania organizow
 ane przez WBP w Opolu są rejestrowane oraz fotografowane. Materiały służą 
 realizacji celów statutowych i promocyjnych\, w tym publikowaniu na stroni
 e www\, w social mediach i wydawnictwach WBP w Opolu. https://wbp.opole.pl
 /kalendarz/wydarzenie/1097-spotkanie-poswiecone-tworczosci-opolskiego-foto
 grafika-gintera-stillera
DTSTART;VALUE=DATE:20250121
LOCATION:Czytelnia (ul. Piastowska 18\, Opole)
SUMMARY:Spotkanie poświęcone twórczości opolskiego fotografika Gintera Stil
 lera
URL:https://wbp.opole.pl/kalendarz/wydarzenie/1097-spotkanie-poswiecone-two
 rczosci-opolskiego-fotografika-gintera-stillera
END:VEVENT
BEGIN:VEVENT
UID:20260423T171416CEST-8086sUWCfd@https://wbp.opole.pl/
DTSTAMP:20260423T151416Z
DESCRIPTION:Wojewódzka Biblioteka Publiczna w Kielcach ogłasza I edycję ogó
 lnopolskiego konkursu „Świętokrzyska Nagroda Literacka” dla najlepszych ks
 iążek w języku polskim\, wydanych po raz pierwszy w 2024 r.\, biograficzni
 e lub tematycznie związanych z regionem świętokrzyskim. Nagroda wynosi 20 
 tysięcy złotych.\nW konkursie wyłoniony zostanie również laureat czytelnik
 ów. Nagroda wynosi 5 tysięcy złotych. Finał konkursu odbędzie się w czerwc
 u 2025 roku w trakcie „Świętokrzyskiego Festiwalu Literackiego”. Kandydatu
 ry do Nagrody można zgłaszać w terminie do 1 marca 2025 r.\nRegulamin Nagr
 ody oraz formularz zgłoszeniowy dostępny jest na stronie:&nbsp\;www.swieto
 krzyskanagrodaliteracka.pl/regulamin/\nZapraszamy do udziału! https://wbp.
 opole.pl/kalendarz/wydarzenie/1101-konkurs-literacki-swietokrzyska-nagroda
 -literacka
DTSTART;VALUE=DATE:20250121
LOCATION:Wojewódzka Biblioteka Publiczna ul. Piastowska 20 ()
SUMMARY:Konkurs literacki 'Świętokrzyska Nagroda Literacka'
URL:https://wbp.opole.pl/kalendarz/wydarzenie/1101-konkurs-literacki-swieto
 krzyska-nagroda-literacka
END:VEVENT
END:VCALENDAR
