BEGIN:VCALENDAR
VERSION:2.0
PRODID:-//https://wbp.opole.pl///NONSGML kigkonsult.se iCalcreator 2.10.15//
METHOD:PUBLISH
BEGIN:VEVENT
UID:20260420T105904CEST-4609c4GoIN@https://wbp.opole.pl/
DTSTAMP:20260420T085904Z
DESCRIPTION:Zapraszamy wszystkich miłośników wspólnej zabawy – bez względu 
 na wiek – do udziału w nowej propozycji Strefy Gier Wojewódzkiej Bibliotek
 i Publicznej w Opolu.Bingo to klasyczna gra towarzyska\, w której liczy si
 ę refleks\, spostrzegawczość i odrobina szczęścia. Każdy uczestnik otrzymu
 je planszę z liczbami. Prowadzący losuje kolejne numery\, a gracze zaznacz
 ają je na swoich kartach. Osoba\, która jako pierwsza ułoży określony ukła
 d i&nbsp\; zawoła „Bingo!”\, wygrywa.To doskonała okazja\, by spędzić czas
  w przyjaznej atmosferze\, poznać nowych ludzi i spróbować swoich sił w le
 kkiej\, pełnej emocji rywalizacji.Zapisy:osobiście w Strefie Giermailowo:&
 nbsp\;strefagier@wbp.opole.pltelefonicznie: 77 40 66 486\n14.01 / 28.01 /&
 nbsp\; godz. 17:00\n*Informujemy\, że spotkania organizowane przez WBP w O
 polu są rejestrowane oraz fotografowane. Materiały służą realizacji celów 
 statutowych i promocyjnych\, w tym publikowaniu na stronie www\, w social 
 mediach i wydawnictwach WBP w Opolu. https://wbp.opole.pl/kalendarz/wydarz
 enie/1264-bingo-w-strefie-gier
DTSTART;VALUE=DATE:20260114
LOCATION:Wojewódzka Biblioteka Publiczna ul. Piastowska 20 ()
SUMMARY:BINGO w Strefie Gier
URL:https://wbp.opole.pl/kalendarz/wydarzenie/1264-bingo-w-strefie-gier
END:VEVENT
END:VCALENDAR
