BEGIN:VCALENDAR
VERSION:2.0
PRODID:-//https://wbp.opole.pl///NONSGML kigkonsult.se iCalcreator 2.10.15//
METHOD:PUBLISH
BEGIN:VEVENT
UID:20260420T140615CEST-2710ufNZwt@https://wbp.opole.pl/
DTSTAMP:20260420T120615Z
DESCRIPTION:Rodzinne Granie w Strefie Gier WBP – „W 1 dzień dookoła świata”
 \nWojewódzka Biblioteka Publiczna w Opolu zaprasza na kolejne spotkanie w 
 ramach&nbsp\;Rodzinnego Grania w Strefie Gier WBP. Tym razem uczestnicy we
 zmą udział w familijnej grze fabularnej pt.&nbsp\;„W 1 dzień dookoła świat
 a”&nbsp\;z serii&nbsp\;Tajna Misja.\nPodczas rozgrywki dzieci wraz z opiek
 unami wyruszą w podróż po różnych zakątkach świata\, rozwiązując zagadki l
 ogiczne\, wykonując zadania i zbierając wskazówki niezbędne do ukończenia 
 misji. Gra oparta jest na współpracy\, kreatywnym myśleniu oraz wspólnym p
 odejmowaniu decyzji\, dzięki czemu stanowi atrakcyjną formę spędzania czas
 u dla całych rodzin.\nZajęcia sprzyjają rozwijaniu spostrzegawczości\, umi
 ejętności logicznego myślenia oraz poszerzaniu wiedzy o świecie w formie z
 abawy dostosowanej do młodszych i starszych uczestników.\nMiejsce:&nbsp\;S
 trefa Gier WBP w OpoluTermin:&nbsp\;12.01 godz. 17:00Uczestnicy:&nbsp\;rod
 ziny z dziećmi w wieku od 5 do 8 lat.\nObowiązują zapisy:Zgłoszenia należy
  przesyłać na adres e-mail:&nbsp\;strefagier@wbp.opole.pl\n*Informujemy\, 
 że spotkania organizowane przez WBP w Opolu są rejestrowane oraz fotografo
 wane. Materiały służą realizacji celów statutowych i promocyjnych\, w tym 
 publikowaniu na stronie www\, w social mediach i wydawnictwach WBP w Opolu
 . https://wbp.opole.pl/kalendarz/wydarzenie/1263-rodzinne-granie-w-strefie
 -gier-wbp-w-1-dzien-dookola-swiata
DTSTART;VALUE=DATE:20260112
LOCATION:Wojewódzka Biblioteka Publiczna ul. Piastowska 20 ()
SUMMARY:Rodzinne Granie w Strefie Gier WBP – „W 1 dzień dookoła świata”
URL:https://wbp.opole.pl/kalendarz/wydarzenie/1263-rodzinne-granie-w-strefi
 e-gier-wbp-w-1-dzien-dookola-swiata
END:VEVENT
END:VCALENDAR
