BEGIN:VCALENDAR
VERSION:2.0
PRODID:-//https://wbp.opole.pl///NONSGML kigkonsult.se iCalcreator 2.10.15//
METHOD:PUBLISH
BEGIN:VEVENT
UID:20260423T194228CEST-9473J9oC7D@https://wbp.opole.pl/
DTSTAMP:20260423T174228Z
DESCRIPTION:Śmierć na Nilu - Tutanchamon jest tym z faraonów\, który nawet 
 współcześnie rozpala wyobraźnię.&nbsp\; Równo sto lat po dokonaniu odkryci
 a grobowca przez Howarda Cartera fascynacja starożytnym Egiptem nie gaśnie
 . Bajeczne skarby\, tajemnicza klątwa i niewyjaśnione okoliczności towarzy
 szące życiu i śmierci Tutanchamona do dziś znajdują swoje odzwierciedlenie
  w popkulturze i literaturze.&nbsp\; Wystawa przybliża historię tego niezw
 ykłego archeologicznego odkrycia\, postać samego faraona\, jak i powieści\
 , których autorzy czerpali inspirację z niezwykłych wydarzeń 1922 r.\n&nbs
 p\;\nWystawę można oglądać w galerii przy schodach (ul. Piastowska 18) do 
 końca kwietnia. https://wbp.opole.pl/kalendarz/wydarzenie/712-wystawa-smie
 rc-na-nilu
DTSTART:20221219T091700Z
DTEND:20230430T101700Z
LOCATION:Galeria „Schody” (ul. Piastowska 18\, Opole)
SUMMARY:Wystawa 'Śmierć na Nilu'
URL:https://wbp.opole.pl/kalendarz/wydarzenie/712-wystawa-smierc-na-nilu
END:VEVENT
BEGIN:VEVENT
UID:20260423T194228CEST-9476UGClEN@https://wbp.opole.pl/
DTSTAMP:20260423T174228Z
DESCRIPTION:Gore gwiazda - wystawa przybliża mniej znane polskie kolędy i p
 astorałki\, których teksty oprócz głoszenia chwały nowonarodzonemu Dziecią
 tku w malowniczy sposób odzwierciedlają polską wieś i jej mieszkańców. Utw
 ory te charakteryzują się zarówno wyjątkową plastycznością opisów\, jak i 
 dużą dozą humoru. Niektóre śpiewane były wyłącznie w kościele\, inne towar
 zyszyły kolędnikom w ich corocznych wędrówkach. Różnorodność kolęd i pasto
 rałek (pod względem muzycznym i literackim) świadczy o bogactwie polskiej 
 twórczości artystycznej związanej z Bożym Narodzeniem.\n&nbsp\;\nWystawę m
 ożna oglądać w Małej Galerii (ul. Piastowska 18) do końca stycznia. https:
 //wbp.opole.pl/kalendarz/wydarzenie/713-wystawa-gore-gwiazda
DTSTART:20221219T092500Z
DTEND:20230126T112500Z
LOCATION:Mała Galeria (ul. Piastowska 18\, Opole)
SUMMARY:Wystawa 'Gore Gwiazda'
URL:https://wbp.opole.pl/kalendarz/wydarzenie/713-wystawa-gore-gwiazda
END:VEVENT
BEGIN:VEVENT
UID:20260423T194228CEST-9478UIFBRD@https://wbp.opole.pl/
DTSTAMP:20260423T174228Z
DESCRIPTION:Dyrektor Wojewódzkiej Biblioteki Publicznej w Opolu&nbsp\;oraz&
 nbsp\;Prezes Nauczycielskiego Klubu Literackiego przy Zarządzie Okręgu ZNP
  w Opolu&nbsp\;zapraszają na:&nbsp\; &nbsp\; &nbsp\; &nbsp\;&nbsp\;\nWiers
 ze pachnące jedliną\nSpotkania “Wiersze pachnące jedliną” to jedna z trady
 cji opolskiego środowiska literackiego.&nbsp\; Pod hasłem-cytatem z wiersz
 a Karoliny Turkiewicz-Suchanowskiej spotykamy sie po raz kolejny\, by w ra
 dosnej atmosferze otworzyć poetyckim słowem Nowy Rok 2023.\nSpotkanie uświ
 etnią:Beata Piotrowska-Piersiak – skrzypce\,Marzena Wójcik-Kaszczyszyn – k
 eyboardTeodozja Świderska - śpiew\n&nbsp\;Wiersze czytać będą poeci zrzesz
 eni w Nauczycielskim Klubie Literackim oraz zaproszeni goście:\nDanuta Bab
 icz-Lewandowska\, Edmund Borzemski\, Irena Bota\, Harry Duda\, Agnieszka K
 rokowicz\, Elżbieta Lisak-Duda\, Daniela Długosz-Penca\, Teresa Kamienieck
 a-Hreczaniuk\, Witold Hreczaniuk\, Ada Jarosz\, Zofia Kulig\, Ewa Maj-Szcz
 ygielska\, Kordian Michalak\, Teresa Nietyksza\, Wojciech Ossoliński\,&nbs
 p\; Beata Piersiak-Piotrowska\, Walter Pyka\, Ludmiła Małgorzata Sobolewsk
 a\, Jan Szczurek\, Teodozja Świderska\, Magdalena Wiącek\, Romana Więczasz
 ek\, Piotr Żarczyński\nZapraszamy na magiczny wieczór pełen muzyki i poezj
 i!\n10 stycznia\, godz. 17:00\, sala narad\, ul. Piastowska 20\n&nbsp\;\nS
 potkanie realizowane w ramach wniosku 'Spotkania z literaturą'\, dofinanso
 wanego ze środków Ministra Kultury i Dziedzictwa Narodowego\, pochodzących
  z Funduszu Promocji Kultury.\n&nbsp\;\n&nbsp\; &nbsp\; &nbsp\;&nbsp\;&nbs
 p\;\n&nbsp\;\nZadanie dofinansowane przez Samorząd Województwa Opolskiego.
 \n&nbsp\;\n* Informujemy\, że spotkania organizowane przez WBP w Opolu są 
 rejestrowane oraz fotografowane. Materiały służą realizacji celów statutow
 ych i promocyjnych\, w tym publikowaniu na stronie www\, w social mediach 
 i wydawnictwach WBP w Opolu. https://wbp.opole.pl/kalendarz/wydarzenie/716
 -wiersze-pachnace-jedlina
DTSTART;VALUE=DATE:20230110
LOCATION:Sala narad (ul. Piastowska 20\, Opole)
SUMMARY:Wiersze pachnące jedliną
URL:https://wbp.opole.pl/kalendarz/wydarzenie/716-wiersze-pachnace-jedlina
END:VEVENT
BEGIN:VEVENT
UID:20260423T194228CEST-9482hvDZxE@https://wbp.opole.pl/
DTSTAMP:20260423T174228Z
DESCRIPTION:Gramy razem z Wielką Orkiestrą Świątecznej Pomocy!\nZachęcamy d
 o licytacji książek z autografami (klik)\nGramy razem - do końca świata i 
 o jeden dzień dłużej! https://wbp.opole.pl/kalendarz/wydarzenie/722-wielka
 -orkiestra-swiatecznej-pomocy
DTSTART:20220831T080500Z
DTEND:20230213T110500Z
LOCATION:Wojewódzka Biblioteka Publiczna ul. Piastowska 20 ()
SUMMARY:Wielka Orkiestra Świątecznej Pomocy
URL:https://wbp.opole.pl/kalendarz/wydarzenie/722-wielka-orkiestra-swiatecz
 nej-pomocy
END:VEVENT
BEGIN:VEVENT
UID:20260423T194228CEST-9483u2smKa@https://wbp.opole.pl/
DTSTAMP:20260423T174228Z
DESCRIPTION:Plan spotkań autorskich na czerwiec&nbsp\;\nZACZYTANE OPOLSKIE
 \n\n\n\n\n05.06.2024\n\n\nMarcin Meller\n\n\nPrudnik godz. 18.00\n\n\nZacz
 ytane Opolskie\n\n\n\n\n06.06.2024\n\n\nMarcin Meller\n\n\nWBP w Opolu god
 z. 17.00\n\n\nZaczytane Opolskie\n\n\n\n\n07.06.2024\n\n\nMarcin Meller\n
 \n\nNamysłów godz. 17.00\n\n\nZaczytane Opolskie\n\n\n\n\n07.06.2024\n\n\n
 Artur Andrus\n\n\nPraszka godz. 17.00\n\n\nZaczytane Opolskie\n\n\n\n\n10.
 06.2024\n\n\nJarosław Mikołajewski\n\n\nGogolin dla dzieci godz.10.00\n\n
 \nDyskusyjny Klub Książki\n\n\n\n\n10.06.2024\n\n\nJarosław Mikołajewski\n
 \n\nŁubniany&nbsp\; godz. 18.00\n\n\nZaczytane Opolskie\n\n\n\n\n11.06.202
 4\n\n\nJarosław Mikołajewski\n\n\nBaborów dla dzieci godz. 11.00\n\n\nDysk
 usyjny Klub Książki\n\n\n\n\n10.06.2024\n\n\nMarta Abramowicz\n\n\nWBP w O
 polu godz. 17.00\n\n\nZaczytane Opolskie\n\n\n\n\n11.06.2024\n\n\nMarta Ab
 ramowicz\n\n\nDobrodzień godz. 18.00\n\n\nZaczytane Opolskie\n\n\n\n\n12.0
 6.2024\n\n\nMarta Abramowicz\n\n\nDobrzeń Wielki godz. 17.30\n\n\nZaczytan
 e Opolskie\n\n\n\n\n13.06.2024\n\n\nMarta Abramowicz\n\n\nGłuchołazy godz.
  17.00\n\n\nDyskusyjny Klub Książki\n\n\n\n\n14.06.2024\n\n\nJan Miodek\n
 \n\nWBP w Opolu godz. 17.00\n\n\nZaczytane Opolskie\n\n\n\n\n17.06.2024\n
 \n\nAgnieszka Lis\n\n\nWilków godz. 17.00\n\n\nZaczytane Opolskie\n\n\n\n
 \n18.06.2024\n\n\nAgnieszka Lis\n\n\nŚwierczów godz. 17.00\n\n\nZaczytane 
 Opolskie\n\n\n\n\n19.06.2024\n\n\nAgnieszka Lis\n\n\nLubsza f. Kościerzyce
  godz. 16.00\n\n\nZaczytane Opolskie\n\n\n\n\n20.06.2024\n\n\nAgnieszka Li
 s\n\n\nTurawa godz. 17.00\n\n\nZaczytane Opolskie\n\n\n\n\n21.06.2024\n\n
 \nAgnieszka Lis\n\n\nLasowice godz. 17.00\n\n\nZaczytane Opolskie\n\n\n\n 
 https://wbp.opole.pl/kalendarz/wydarzenie/937-zaczytane-opolskie-2024-r
DTSTART:20200106T141500Z
DTEND:20250306T161500Z
LOCATION:Wojewódzka Biblioteka Publiczna ul. Piastowska 20 ()
SUMMARY:'Zaczytane Opolskie' 2024 r.
URL:https://wbp.opole.pl/kalendarz/wydarzenie/937-zaczytane-opolskie-2024-r
END:VEVENT
END:VCALENDAR
