BEGIN:VCALENDAR
VERSION:2.0
PRODID:-//https://wbp.opole.pl///NONSGML kigkonsult.se iCalcreator 2.10.15//
METHOD:PUBLISH
BEGIN:VEVENT
UID:20260420T184504CEST-8860Wn2MCt@https://wbp.opole.pl/
DTSTAMP:20260420T164504Z
DESCRIPTION:Z satysfakcją przyjęłam informację\, o tym\, że powstał drugi t
 om Leksykonu opolanek\, który po wydanym w ubiegłym roku stanowi kontynuac
 ję prezentacji kobiet związanych z Opolem. Autorom gratuluję zapału i zaan
 gażowania w przygotowaniu go do druku. Ideę jego powstania uznaję za cenną
  i wartą realizacji.\nZ recenzji dr hab. prof. UO Adriany Dawid\nKolejny t
 om Leksykonu to oczekiwany przez grono czytelników zbiór stu biogramów wyb
 itnych kobiet\, których losy\, zawsze ciekawe\, czasem bolesne\, często dr
 amatyczne\, związane były przynajmniej przez pewien czas z Opolem.&nbsp\;W
 ybór prezentowanych postaci jest bogaty i różnorodny. Obok wybitnych artys
 tek sceny\, literatury\, muzyki i plastyki pojawiają się twórczynie ludowe
 . Pomiędzy uczonymi znanymi w Polsce i na świecie ze swoich naukowych osią
 gnięć znajdzie czytelnik także kochane i podziwiane przez uczniów nauczyci
 elki i bibliotekarki. Poznajemy kobiety reprezentujące różne dyscypliny sp
 ortu\, byłe i obecne mistrzynie\, a jednocześnie osoby pełne pasji społecz
 nej\, pomagające ludziom bezinteresownie\, założycielki i działaczki liczn
 ych organizacji niosących pomoc. Kobiety przeróżnych profesji\, będące jed
 nocześnie budzącymi podziw pomysłodawczyniami\, kreatywnymi i dalekowzrocz
 nymi organizatorkami\, niezmiernie przy tym pracowitymi i nieustępliwymi. 
 Dzięki przyjętej formule książki Opole ukazuje się czytelnikowi jako miast
 o pełne ciekawych indywidualności\, wartych bliższego poznania.\nZ recenzj
 i dr hab. Małgorzaty Iżykowskiej\nModeratorka spotkania:&nbsp\;prof. Adria
 na Dawid z Instytutu Historii UO\n9.01.2026godz. 17:00Sala spotkań WBP\, u
 l. Piastowska 18\n*Informujemy\, że spotkania organizowane przez WBP w Opo
 lu są rejestrowane oraz fotografowane. Materiały służą realizacji celów st
 atutowych i promocyjnych\, w tym publikowaniu na stronie www\, w social me
 diach i wydawnictwach WBP w Opolu. https://wbp.opole.pl/kalendarz/wydarzen
 ie/1245-leksykon-opolanek
DTSTART;VALUE=DATE:20260109
LOCATION:Wojewódzka Biblioteka Publiczna ul. Piastowska 20 ()
SUMMARY:Leksykon Opolanek
URL:https://wbp.opole.pl/kalendarz/wydarzenie/1245-leksykon-opolanek
END:VEVENT
END:VCALENDAR
